BEGIN:VCALENDAR
PRODID:NingEventWidget-v1
VERSION:2.0
METHOD:PUBLISH
BEGIN:VEVENT
UID:2508951:Event:200542
DTSTAMP:20260422T165128Z
SUMMARY:Click here for SATURDAY 8/18/12 VIRGINIA BEACH ENTERTAINMENT L
 ISTINGS
DESCRIPTION:LIVE ENTERTAINMENT\n7th Street Stage- Bam Bam Betty, 7-11P
 M\n11th Street Taphouse- Locals Night w/Pridemore, 10PM\n13th Street-
  The Life and Music of Ella Fitzgerald, 7PM,8PM,9PM\n15th Street Raw B
 ar- DEJA, 9PM\n17th Street Park- Tidewater Drive, 8-10:30PM\n24th Str
 eet Park- Krendl & Company Magical Variety Show, 7:30, 8:30 & 9:30PM\n
 25th Street- Naval Airpower Legacy, 8:45PM & 9:30PM\n27th Street Park-
  The Witch of Pungo, 8:30,9:15, & 10PM\n31st Street Park- Zig Zag,12-4
 PM, Skylark, 7-10PM\n501 City Grill- Live Entertainment, 9PM-1AM\nBon
 eshakers- Blind Toona, 9PM\nAbbey Road- Bat\nBaker Street- Live Entert
 ainment\nBoneshakers- Rock Candy\nCinema Cafe- Comedy at the Cafe\nCal
 ypso- Jackson LeBeau, 4-8PM, Cheaper than Therapy, 8PM-1AM\nChix- Ever
 lasting Lounge, 11PM-2AM,\nFinn McCools- Jacob Vanko\nFooters- Cory Da
 niel Band, 3-6PM\nGrumpy's- Hotcakes\nH20- Jesse Chong, 9:30PM\nHavana
 h Nights- Cocktail Piano (Wed.-Sat.) w/Justin Kauflin, 5-7PM, Justin K
 auflin Trio, 8 &10PM, Late Night Show (Every Fri,& Sat.,11:30PM-1AM) 
 w/ Vince Barbour Trio\nH K on the Bay- Live Entertainment, 8PM\nHot Tu
 na- DJ Oh Boy, 10PM\nIL Giardino- Live Entertainment in the lounge w/
  Mr. Billy Batte- 7PM\nJewish Mother- Hackensaw Boys\nKeagans- Jack B
 ecker\nKrossroads- Broke By Sunday\nKnuckleheads- Quattro, 9PM\nMurphy
 s- Martin Marron, 9P \nPoppas Pub- Billy Joe Trio \nScandals- Rendit
 ion, 9:30PM\nSide Street Cantina- DJ Aetgy\nSouth Beach Grill- Bigger
  Dream\nSurf Club Ocean Grille- HM Johnson, 6-9PM\nSunset Beach Resor
 t Hotel- Scott Kirby, 2-6PM\nWoody McGees- Legacy, 9:30PM-12:30AM\n \
 nTHEATRE/FUNDRAISERS/CONCERTS/SPORTS:\nNorva- Buckcherry\nFarm Bureau-
  Mary J. Blige\n \nFAMILY FUN/SPECIAL EVENTS:\nVirginia MOCA- Andy Wa
 rhol\n \nDJ’S/KARAOKE/DANCES:\nAJ Gators (Fairfield)- Karaoke\nAJ G
 ators (Holland Road)- Karaoke W/ Scotty, 9PM\nRetro Cafe- Karaoke\nPea
 bodys- Bash at the Beach w/ DJ Kendall (Every Saturday)\nSecrets- Kara
 oke w/ El Mike, 9PM-1AM\nHackensaw Boys\n\nFor more information visit 
 https://vbnightlife.com/events/click-here-for-saturday-8-18-12-virgini
 a-beach-entertainment-list
DTSTART:20120818T040000Z
DTEND:20120819T035900Z
CATEGORIES:"virginia beach entertainment", "virginia beach nightlife",
  "virginia beach bands"
LOCATION:Virginia Beach
WEBSITE:
URL:
CONTACT:
ORGANIZER:VBnightlife.com (Dionna Campanella)
ATTACH;FMTTYPE="image/jpeg":http://storage.ning.com/topology/rest/1.0/
 file/get/1664175917?profile=original
ATTENDEE;ROLE=REQ-PARTICIPANT;PARTSTAT=ACCEPTED;RSVP=TRUE;CN="VBnightl
 ife.com":https://vbnightlife.com/profile/admin
END:VEVENT
END:VCALENDAR
