BEGIN:VCALENDAR
PRODID:NingEventWidget-v1
VERSION:2.0
METHOD:PUBLISH
BEGIN:VEVENT
UID:2508951:Event:199737
DTSTAMP:20260422T224741Z
SUMMARY:Click here for SATURDAY 7/7/12 VIRGINIA BEACH ENTERTAINMENT LI
 STINGS
DESCRIPTION:LIVE ENTERTAINMENT\n7th Street Stage- Plastic Eddie, 7-11P
 M\n13th Street- The Life and Time of Ella Fitzgerald, 7PM, 8PM, 9PM\n1
 7th Street Park- Chalk the Walk ARTsplosion, 10AM-5PM, Power Play, 8-1
 0:30PM, Naval Airpower Legacy, 8:45 & 9:30PM\n24th Street Park- Krendl
  & Company Magical Variety Show, 7:30, 8:30 & 9:30PM\n27th Street Park
 - The Witch of Pungo, 8:30,9:15, & 10PM\n31st Street Park- Zig Zag, 12
 -4PM, Charles Darden, 7-10PM\n11th Street Taphouse- Locals Night w/Jo
 hn Baldwin, 10PM\n15th Street Raw Bar- This Time Around, 9PM\n501 Cit
 y Grill- Two Tone Cadillac, 9PM-1AM\nBoneshakers- DEJA, 9PM\nAbbey Ro
 ad- Pete Hansen & Larry Emmanuel\nBaker Street- The Fold\nCinema Cafe-
  Comedy at the Cafe\nCalypso- Slack Dog, 5-9PM, Dave and The Dark Matt
 er, 9PM-1AM\nChix- Mike Proffitt (inside) Plastic Eddie, 11PM-2AM,\nGr
 umpys- Natures Child\nH20- The Big Mighty w/ Brandon Bower, 9:30PM\nHa
 vanah Nights- Cocktail Piano (Wed.-Sat.) w/Justin Kauflin, 5-7PM, Just
 in Kauflin Trio, 8 &10PM, Late Night Show (Every Fri,& Sat.,11:30PM-1
 AM) w/ Vince Barbour Trio\nH K on the Bay- Almost Famous Band, 8PM\nHo
 t Tuna- Ryan Hines Band, 10PM\nIL Giardino- Live Entertainment in the
  lounge w/ Mr. Billy Batte- 7PM\nJewish Mother- Ocean Eddies; Snard Br
 others Reunion, 9PM\nKeagans- Pridemore, 10PM\nKnuckleheads- Butter, 9
 PM\nMurphys- Brian Halloran\nSide Street Cantina- DJ Aetgy\nSouth Beac
 h Grill- Beadle Brothers\nSurf Club Ocean Grille- Dreams, 6-9PM\nSuns
 et Beach Resort Hotel- Lewis McGehee, 2-6PM\nWoody McGees- Live Entert
 ainment, 9:30PM-12:30AM\n \nTHEATRE/FUNDRAISERS/CONCERTS/SPORTS:\nSum
 merland Tour at nTelos Pavillion- Buy one, get one free\nHarbor Park- 
 Norfolk Tides Baseball, 7:15PM\nNorva- Bent Tranzmission\n \nFAMILY F
 UN/SPECIAL EVENTS:\nVirginia MOCA- Andy Warhol\n \nDJ’S/KARAOKE/DAN
 CES:\nAJ Gators (Holland Road)- Karaoke W/ Scotty, 9PM\nRetro Cafe- Ka
 raoke\nPeabodys- Bash at the Beach w/ DJ Kendall (Every Saturday)\nSec
 rets- Karaoke w/ El Mike, 9PM-1AM\n\nFor more information visit https:
 //vbnightlife.com/events/click-here-for-saturday-7-7-12-virginia-beach
 -entertainment-listi
DTSTART:20120707T040000Z
DTEND:20120708T035900Z
CATEGORIES:"virginia beach nightlife", "virginia beach bands", "virgin
 ia beach entertainment"
LOCATION:Virginia Beach
WEBSITE:
URL:
CONTACT:
ORGANIZER:VBnightlife.com (Dionna Campanella)
ATTACH;FMTTYPE="image/jpeg":http://storage.ning.com/topology/rest/1.0/
 file/get/1664172307?profile=original
ATTENDEE;ROLE=REQ-PARTICIPANT;PARTSTAT=ACCEPTED;RSVP=TRUE;CN="VBnightl
 ife.com":https://vbnightlife.com/profile/admin
END:VEVENT
END:VCALENDAR
