BEGIN:VCALENDAR
PRODID:NingEventWidget-v1
VERSION:2.0
METHOD:PUBLISH
BEGIN:VEVENT
UID:2508951:Event:199694
DTSTAMP:20260422T210941Z
SUMMARY:Click here for SATURDAY 7/21/12 VIRGINIA BEACH ENTERTAINMENT L
 ISTINGS
DESCRIPTION:LIVE ENTERTAINMENT\n7th Street Stage- Quik Fix, 7-11PM\n11
 th Street Taphouse- Locals Night w/ Kaboombox, 10PM\n13th Street- Pla
 ylist, 7, PM,8PM,9PM\n15th Street Raw Bar- DEJA, 9PM\n17th Street Par
 k- Michael Clark Band, 8-10:30PM\n24th Street Park- Krendl & Company M
 agical Variety Show, 7:30, 8:30 & 9:30PM\n25th Street- Naval Airpower 
 Legacy, 8:45PM& 9:30PM\n27th Street Park- The Witch of Pungo, 8:30,9:1
 5, & 10PM\n30th Street- Mid-Atlantic Crab Challenge, 10AM-2PM\n31st St
 reet Park- Just Cuz,12-4PM, Skylark, 7-10PM\n501 City Grill- Live Ent
 ertainment, 9PM-1AM\nAbbey Road- Louis Smith\nBoneshakers- Mystery Ban
 d, 9PM\nBaker Street- DJ Tom\nClutch- Red Stapler, 9:30PM\nCinema Cafe
 - Comedy at the Cafe\nCalypso- The Striker Band, 5-9PM, Dave and The D
 ark Matter, 9PM-1AM\nH20- Baddadz, 9:30PM\nHavanah Nights- Cocktail Pi
 ano (Wed.-Sat.) w/Justin Kauflin, 5-7PM, Justin Kauflin Trio, 8 &10PM
 , Late Night Show (Every Fri,& Sat.,11:30PM-1AM) w/ Vince Barbour Trio
 \nH K on the Bay- Plastic Eddie, 8PM\nHot Tuna- Fine Swiss Cheese, 10P
 M\nIL Giardino- Live Entertainment in the lounge w/ Mr. Billy Batte- 
 7PM\nKeagans-Live Entertainment, 10PM\nKnuckleheads- Kustom Made, 9PM\
 nLighthouse- Ed Kelleher, 8-11PM\nMurphys- The Havers, 9PM\nOcean Hous
 e- Skip Firel, 7PM\nPoppas Pub- 54 Steps\nSide Street Cantina- DJ Aetg
 y\nSouth Beach Grill- Tailgate Down\nSurf Club Ocean Grille- The Bad
 dadz, 6-9PM\nSunset Beach Resort Hotel- The Office, 2-6PM\nTown Center
  Plaza- The Next Mean, 6-9PM\nWoody McGees- Live Entertainment, 9:30PM
 -12:30AM\nWink King- Jukes Bookie Trio, 9:30PM\n \nTHEATRE/FUNDRAISER
 S/CONCERTS/SPORTS:\n25th Annual Rock and Roll Up Your Sleeve Blood Dri
 ve\nNorva- Soja\n \nFAMILY FUN/SPECIAL EVENTS:\nVirginia MOCA- Andy W
 arhol\n \nDJ’S/KARAOKE/DANCES:\nAJ Gators (Holland Road)- Karaoke W
 / Scotty, 9PM\nRetro Cafe- Karaoke\nPeabodys- Bash at the Beach w/ DJ 
 Kendall (Every Saturday)\nSecrets- Karaoke w/ El Mike, 9PM-1AM\n\nFor 
 more information visit https://vbnightlife.com/events/click-here-for-s
 aturday-7-21-12-virginia-beach-entertainment-list
DTSTART:20120721T040000Z
DTEND:20120722T035900Z
CATEGORIES:"virginia beach entertainment", "virginia beach nightlife",
  "virginia beach music", "virginia beach bands"
LOCATION:Virginia Beach
WEBSITE:
URL:
CONTACT:
ORGANIZER;CN="VBnightlife.com":https://vbnightlife.com/profile/admin
ATTACH;FMTTYPE="image/jpeg":http://storage.ning.com/topology/rest/1.0/
 file/get/1664174148?profile=original
ATTENDEE;ROLE=REQ-PARTICIPANT;PARTSTAT=ACCEPTED;RSVP=TRUE;CN="VBnightl
 ife.com":https://vbnightlife.com/profile/admin
END:VEVENT
END:VCALENDAR
