BEGIN:VCALENDAR
PRODID:NingEventWidget-v1
VERSION:2.0
METHOD:PUBLISH
BEGIN:VEVENT
UID:2508951:Event:199657
DTSTAMP:20260422T212318Z
SUMMARY:Click here for SATURDAY 7/14/12 VIRGINIA BEACH ENTERTAINMENT L
 ISTINGS
DESCRIPTION:LIVE ENTERTAINMENT\n7th Street Stage- Bam Bam Betty, 7-11P
 M\n11th Street Taphouse- Locals Night w/ Brandon Bower, 10PM\n13th St
 reet- Playlist, 7, PM,8PM,9PM\n15th Street Raw Bar- Rhythm Pigs, 9PM\
 n17th Street Park- Special Trapeze Circus, 7:30PM, 8:30PM, 9:30PM\n24t
 h Street Park- Krendl & Company Magical Variety Show, 7:30, 8:30 & 9:3
 0PM\n25th Street- Naval Airpower Legacy, 8:45PM& 9:30PM\n27th Street P
 ark- The Witch of Pungo, 8:30,9:15, & 10PM\n31st Street Park- Doug Dun
 n & Steel River, 12-4PM, Carbon Jam, 7-10PM\n501 City Grill- Audio Sa
 uce, 9PM-1AM\nBoneshakers- DEJA, 9PM\nAbbey Road- Jackson LeBeau\nBake
 r Street- Borderline Crazy\nCinema Cafe- Comedy at the Cafe\nCalypso- 
 The Striker Band, 5-9PM, Dave and The Dark Matter, 9PM-1AM\nChix- Ever
 lasting Lounge, 11PM-2AM\nGrumpy's- Broke by Sunday\nH20- Jesse Chong,
  9:30PM\nHavanah Nights- Cocktail Piano (Wed.-Sat.) w/Justin Kauflin, 
 5-7PM, Justin Kauflin Trio, 8 &10PM, Late Night Show (Every Fri,& Sat
 .,11:30PM-1AM) w/ Vince Barbour Trio\nH K on the Bay- Everybody Loves 
 Tequila, 8PM\nHot Tuna- The Office, 10PM\nIL Giardino- Live Entertain
 ment in the lounge w/ Mr. Billy Batte- 7PM\nJewish Mother- Passafire w
 / Special Guests Rio & The Reef\nKeagans- Mink & Cheef, 10PM\nKnuckleh
 eads- Blue Lords, 9PM\nKrossroads- Ax to Grind\nLucky Oyster- Brent Sh
 epard, 8:30PM\nMurphys- Don Bunch\nPoppas Pub- Gatorhead\nSide Street 
 Cantina- DJ Aetgy\nSouth Beach Grill- Cheaper than Therapy\nSurf Club
  Ocean Grille- HM Johnson Band, 6-9PM\nSunset Beach Resort Hotel- mOc
 ean, 2-6PM\nWoody McGees- Baddadz, 9:30PM-12:30AM\n \nTHEATRE/FUNDRAI
 SERS/CONCERTS/SPORTS:\nNorva- Badfish\n \nFAMILY FUN/SPECIAL EVENTS:\
 nVirginia MOCA- Andy Warhol\n \nDJ’S/KARAOKE/DANCES:\nAJ Gators (Fa
 irfield)- Karaoke\nAJ Gators (Holland Road)- Karaoke W/ Scotty, 9PM\nR
 etro Cafe- Karaoke\nPeabodys- Bash at the Beach w/ DJ Kendall (Every S
 aturday)\nSecrets- Karaoke w/ El Mike, 9PM-1AM\n\nFor more information
  visit https://vbnightlife.com/events/click-here-for-saturday-7-14-12-
 virginia-beach-entertainment-list
DTSTART:20120714T040000Z
DTEND:20120715T035900Z
CATEGORIES:"virginia beach entertainment", "virginia beach nightlife",
  "virginia beach bands"
LOCATION:Virginia Beach
WEBSITE:
URL:
CONTACT:
ORGANIZER:VBnightlife.com (Dionna Campanella)
ATTACH;FMTTYPE="image/jpeg":http://storage.ning.com/topology/rest/1.0/
 file/get/1664173153?profile=original
ATTENDEE;ROLE=REQ-PARTICIPANT;PARTSTAT=ACCEPTED;RSVP=TRUE;CN="VBnightl
 ife.com":https://vbnightlife.com/profile/admin
END:VEVENT
END:VCALENDAR
