BEGIN:VCALENDAR
PRODID:NingEventWidget-v1
VERSION:2.0
METHOD:PUBLISH
BEGIN:VEVENT
UID:2508951:Event:311546
DTSTAMP:20260425T092649Z
SUMMARY:Click here for SATURDAY 6/27/15 VIRGINIA BEACH EVENT & ENTERTA
 INMENT LISTINGS
DESCRIPTION:Special Events\nAdventure ParkÂ at the Virginia Aquarium- 
 $5 Off General Admission With Promo Code VBLIFE here:Â http://bit.ly/1
 FhDqIF\nAssociation for Research and Enlightenment (A.R.E.) Oceanfront
  -Â Free Psychic Fair at Edgar Cayceâ€™s A.R.E.Â Learn More\nPaintball
  - 58% off onÂ www.VBhotdeals.com\nLongshots Billiards & DartsÂ Chesap
 eake- Military Appreciation Day - Free Pool and drink discounts for th
 e military\nMuseum of Contemporary Art (MOCA) Now on Exhibit\nFirework
 s - Virginia Beach Oceanfront - (set off at 20th Street) Weather permi
 tting 10pm\nHardee's Latin Fest - Oceanfront\n\nLIVE ENTERTAINMENT\n50
 1 City GrillÂ -Birdneck Rd- Kaboombox 9:30pm\n11th Street Taphouse-Â N
 ature's ChildÂ 9pm\n7th Stage-Â Zig Zag 12pm, Tidewater Drive Band 7pm
 \n17th Stage-Â Mike ProffittÂ 8pm\n24th Beach-Â Hardee's Latin Fest 8a
 m to 11pm\n31st Stage- Skip Friel & The Resonators 12pm, Skylark 7pm\n
 34th Stage- JuJu 12pm, Jon & Justin 7pm\nAbbey Road Pub- Pete Hansen &
  Larry EmanuelÂ 9pm\nBoneshakers - Marty Kash 3pm, Cheap Whiskey 9pm\n
 Calypso Bar & Grill -Atlantic Ave-Â Cody Austin Band 7pm, DJ Migs 10pm
 \nCobalt Grill -Hilltop- Live Music 7:30\nCocomo Joe's -31st-Â Cole St
 evens & The Delta Daggers 9pm\nEagles NestÂ -Hilltop-Â CaseyÂ Jamerson
 Â 9:30pm\nFroggie's Cantina By The BayÂ - Shore Drive - Almost FamousÂ
  8:30pm\nHK on the Bay -Â The ReefÂ 10pm\nHot Tuna -Shore Dr-Â Spin Ci
 ty 9:30pm\nJerry's Restaurant & Lounge Chesapeake-Â Live MusicÂ 9pm Ge
 t your 1/2 price voucher for Food and Drink here:Â www.VBhotdeals.com\
 nKeagan's Irish Pub -Town Center-Â Dustin Furlow 10pm\nMurphy's Irish 
 PubÂ -Â The Fighting JamesonsÂ 9pm\nRY Lounge - Oceanfront - DJ & Danc
 ing 10pm\nSouth Beach Grill -Â Michael Clark Band 9:30pm\nTapped Gastr
 opub -Hilltop-Â David CarterÂ 10pm\nWing King -Rosemont-Â Bartones 9pm
  COUPON\nWing King -Centerville-Â Blue Lords 9pm COUPON\nWoody McGees 
 -Holland Rd-Â 9pm\n\nFor more information visit https://vbnightlife.co
 m/events/click-here-for-saturday-6-27-15-virginia-beach-event-entertai
 nmen
DTSTART:20150627T040000Z
DTEND:20150628T035900Z
CATEGORIES:"virginia beach", "virginia beach nightlife", "virginia bea
 ch bands", "virginia beach entertainment", "events in virginia beach",
  "things to do in virginia beach", "mobile app virginia beach"
LOCATION:Virginia Beach, VA
WEBSITE:
URL:
CONTACT:
ORGANIZER:VBnightlife / VBdaylife
ATTACH;FMTTYPE="image/jpeg":http://storage.ning.com/topology/rest/1.0/
 file/get/1664281541?profile=original
ATTENDEE;ROLE=REQ-PARTICIPANT;PARTSTAT=ACCEPTED;RSVP=TRUE;CN="VBnightl
 ife.com":https://vbnightlife.com/profile/admin
END:VEVENT
END:VCALENDAR
