BEGIN:VCALENDAR
PRODID:NingEventWidget-v1
VERSION:2.0
METHOD:PUBLISH
BEGIN:VEVENT
UID:2508951:Event:285870
DTSTAMP:20260423T092837Z
SUMMARY:Click here for SATURDAY 5/31/14 VIRGINIA BEACH ENTERTAINMENT L
 ISTINGS
DESCRIPTION:LIVE ENTERTAINMENT/ DJ’S/ KARAOKE: \n5th STREET STAGE -
  VB \"JAKE OWEN\" - Patriotic Festival 6pm\n7th STREET STAGE - V B \
 "BRIAN GRILLI\"7pm\n17th STREET STAGE - VB \"CANYON ROAD BAND\" 8pm\n2
 4th STREET STAGE - VB \"LLAMAS @ BRUNCH\" 8pm\nBoneshakers - VB \"BLUS
 HING MELONS\" patio 3-7pm\nCalypso - 11th St - VB \"GRIDLOCK 64\"\nCen
 tal Library - VB \"DOUG MACLEOD\" $$\nGrumpy's - VB \"HEY HEY HOOLIGAN
 \nHot Tuna - VB \"CHEAP THRILLS\" \nJagers - VB \"CODY & AUSTIN\"\nKe
 agans - Town Center - VB 10pm \nLighthouse - 12th St - VB \"ED KELLEH
 ER\" 8-11pm\nMango's Beach Bar and Grill - The Dentz 9pm\nParlay's 3 -
  VB \"RED STAPLER\nPoppa's Pub - VB \"CONQUEROOS\"\nSneeky Petes - VB 
 \"THE KARMA KINGS\n\nSouth Beach Grill - Rip Cord 9pm\nTijuana Flats -
  VB \"MARTY MOORE\" 6-8:30pm\n\n\n\nSPECIAL EVENTS/CONCERTS/ FESTIVALS
 : \nMt. Trashmore Summer Carnival\nJUMPING FOR A PURPOSE - WOUNDED WE
 AR BENEFIT\nPatriotic Festival Concerts and Oceanfront Air Show 12pm 
 18th Street and concerts 6pm on 5th Street\n\nCLICK HERE FOR HAPPY HOU
 R DEALS FEATURING SEVERAL LOCAL RESTAURANTS DAILY SPECIALS\n \nCLICK 
 HERE REACH OUR VENUE'S PAGE TO FIND ADDRESSES AND PHONE NUMBERS OF PL
 ACES LISTED\n \nCLICK HERE FOR OUR BAND/DJ PAGE TO FIND DESCRIPTION 
 OF THE BANDS AND LINKS TO THEIR WEB PAGES\n\nFor more information visi
 t https://vbnightlife.com/events/click-here-for-saturday-5-31-14-virgi
 nia-beach-entertainment-list
DTSTART:20140531T040000Z
DTEND:20140601T035900Z
CATEGORIES:"virginia beach", "virginia beach nightlife", "virginia bea
 ch bands"
LOCATION:Virginia Beach, VA
WEBSITE:
URL:
CONTACT:
ORGANIZER;CN="VBnightlife.com":https://vbnightlife.com/profile/admin
ATTACH;FMTTYPE="image/jpeg":http://storage.ning.com/topology/rest/1.0/
 file/get/1664193995?profile=original
ATTENDEE;ROLE=REQ-PARTICIPANT;PARTSTAT=ACCEPTED;RSVP=TRUE;CN="VBnightl
 ife.com":https://vbnightlife.com/profile/admin
END:VEVENT
END:VCALENDAR
