BEGIN:VCALENDAR
PRODID:NingEventWidget-v1
VERSION:2.0
METHOD:PUBLISH
BEGIN:VEVENT
UID:2508951:Event:278094
DTSTAMP:20260421T122625Z
SUMMARY:Click here for SATURDAY 4/26/14 VIRGINIA BEACH ENTERTAINMENT L
 ISTINGS
DESCRIPTION:LIVE ENTERTAINMENT/ DJ’S/ KARAOKE: \nBoneshakers - Red 
 Stapler 3 to 7 (outside) and The Riverboys 9 to 1 (inside)\nCatch 31- 
 DJ 11pm\nFresh Eats & Drinks - Strawbridge - Dustin Furlong and BJ Gri
 ffin at 9 p.m Get your 1/2 price voucher good on food and drinks on V
 Bhotdeals here\nHarry O’s- DJ    9pm\nHot Tuna- DJ Icarus\nJagers-
  Kasey Rae Meeks debuts\nLucky Oyster-Jack Becker\nMangos Beach Grill 
 - Exploding Sun 9pm\nPeabodys- ladies night\nPoppa’s Pub- Quikfix\n
 Sidelines Sports Theatre- Philly Fridays\nSouth Beach Grill- Hotcakes\
 nTapped Gastropub –Mike Proffitt & Dana Silvercloud\n\nSPECIAL EVENT
 S/CONCERTS/ FESTIVALS:\nDISCOUNT TICKETS TO THE NOBLEMEN PUNGO WINE FE
 STIVAL\nDIRTY GIRL MUD RUN - VIRGINIA BEACH \nSandler Center-Virginia
  Musical Theatre: Happy Days 8pm \nNorfolk Scope-Virginia Internatio
 nal Tattoo 7:30pm\nVirginia Beach Friend's School - Benefit with Jesse
  Chong at 6:30pm.  call 757 428 7534 for details! \nHEARTS AND HOOFB
 EATS FUNDRAISER FOR VANGUARD LANDING\nEast Coast She Crab Soup Classic
 \nThe Exchange Party (aka Pig & Oyster Bash) Youth Services Club\n\nPl
 ease note that bookings can change at the last minute.  If times are
  not available, we recommend checking with the venue before heading o
 ut! \nCLICK HERE FOR THE BEST DEALS & COUPONS IN VIRGINIA BEACH FEAT
 URING EXCLUSIVE BARGAINS\nCLICK HERE FOR HAPPY HOUR DEALS FEATURING SE
 VERAL LOCAL RESTAURANTS DAILY SPECIALS\nCLICK HERE REACH OUR VENUE'S P
 AGE TO FIND ADDRESSES AND PHONE NUMBERS OF PLACES LISTED\nCLICK HERE 
 FOR OUR BAND/DJ PAGE TO FIND DESCRIPTION OF THE BANDS AND LINKS TO TH
 EIR WEB PAGES\n \n\n\nFor more information visit https://vbnightlife.
 com/events/click-here-for-saturday-4-26
DTSTART:20140426T040000Z
DTEND:20140427T035900Z
CATEGORIES:"virginia beach", "virginia beach nightlife", "virginia bea
 ch bands"
LOCATION:Virginia Beach, VA
WEBSITE:
URL:
CONTACT:
ORGANIZER;CN="VBnightlife.com":https://vbnightlife.com/profile/admin
ATTACH;FMTTYPE="image/jpeg":http://storage.ning.com/topology/rest/1.0/
 file/get/1664224378?profile=original
ATTENDEE;ROLE=REQ-PARTICIPANT;PARTSTAT=ACCEPTED;RSVP=TRUE;CN="VBnightl
 ife.com":https://vbnightlife.com/profile/admin
END:VEVENT
END:VCALENDAR
