BEGIN:VCALENDAR
PRODID:NingEventWidget-v1
VERSION:2.0
METHOD:PUBLISH
BEGIN:VEVENT
UID:2508951:Event:334348
DTSTAMP:20260422T145747Z
SUMMARY:Click here for SATURDAY 3/5/16 VIRGINIA BEACH EVENT & ENTERTAI
 NMENT LISTINGS
DESCRIPTION:\nSpecial Events\nLocals Only VIP Discount Card Details\n
 Sandler Center - Virginia Musical Theatre: Mame 2p & 8p  (March 4 - 6
 )\n\nLIVE ENTERTAINMENT\n501 City Grill - Birdneck Road - DJ Doodie 9:
 30p\nAbbey Road Pub - Jackson LeBeau 9p\nBella Monte Restaurant & Enot
 eca - 1201 Laskin Rd - Charlie Wiseman on 9-foot concert grand pia
 no 7 to 10p\nBoneshakers - Brent Shepard 8p \nBucketheads - Shore Dr
  - Karaoke w/Travis T 8p\nCalypso Bar & Grill - Atlantic Ave - Closed 
 until March\nChix Sea Grill - 7th St - 9p\nCobalt Grille - The Blue Mi
 le 7:30p\nEagles Nest - Heather Edwards Band 9:30p\nFroggie's Cantina 
 By The Bay - Shore Drive - Lewis McGehee 6p\nGrumpy's - Kempsville - 
 DEJA 9p\nHK On The Bay - Brian Grilli 10p\nHot Tuna - 9:30p\nJerry's R
 estaurant & Lounge - Chesapeake - More Holla 9:30p\nKeagan's Irish Pub
  - Town Center - Borderline Crazy 10p\nLongshots Billiards and Darts -
  Chesapeake - Special Events 9p\nLucky Oyster -  8:30p\nMurphy's Iris
 h Pub - Cheap Thrills 10p\nPoppa's Pub - Dynamos 9:30p\nRY Lounge - O
 ceanfront - DJ & Dancing 10p\nSouth Beach Grill - White Trash Circus 9
 :30p\nTapped Gastropub - Hilltop - Dave Carter 10p\nTempt Restaurant &
  Lounge - The Hark 9:30p\nWaterman's - Atlantic Ave - Karaoke Night on
  the patio 10p\nWing King - Rosemont - Slackdog 9p\nWing King - Cente
 rville - Paint The Town 3p, Chris Hamrick & The City Lights 9p \nWoo
 dy McGees - Holland Road -  9:30p\n\n\nFor more information visit htt
 ps://vbnightlife.com/events/click-here-for-saturday-3-5-16-virginia-be
 ach-event-entertainment
DTSTART:20160305T050000Z
DTEND:20160306T045900Z
CATEGORIES:"virginia beach", "virginia beach nightlife", "virginia bea
 ch bands", "virginia beach entertainment", "events in virginia beach",
  "things to do in virginia beach", "mobile app virginia beach"
LOCATION:Virginia Beach, VA
WEBSITE:
URL:
CONTACT:
ORGANIZER:VBnightlife / VBdaylife
ATTACH;FMTTYPE="image/jpeg":http://storage.ning.com/topology/rest/1.0/
 file/get/1664303644?profile=original
ATTENDEE;ROLE=REQ-PARTICIPANT;PARTSTAT=ACCEPTED;RSVP=TRUE;CN="VBnightl
 ife.com":https://vbnightlife.com/profile/admin
END:VEVENT
END:VCALENDAR
