BEGIN:VCALENDAR
PRODID:NingEventWidget-v1
VERSION:2.0
METHOD:PUBLISH
BEGIN:VEVENT
UID:2508951:Event:190169
DTSTAMP:20260423T064542Z
SUMMARY:Click here for SATURDAY 3/3/12 VIRGINIA BEACH ENTERTAINMENT LI
 STINGS
DESCRIPTION:ENTERTAINMENT\n11th Street Taphouse- Locals Night w/Cheap 
 Thrills, 10PM\n15th Street Raw Bar- Brandon Bower\n501 City Grill- Pri
 demore\nAbbey Road- Jackson LeBEAU\nBoneshakers - DEJA, 8:30\nCalyps
 o- Dave and the Dark Matter 9 to 12\nClutch- Pawn Shop Lifters\nCinema
  Cafe- Comedy at the Cafe\nChix- Evolution\nChicho's- ITV and Damaged 
 Goods\nDogwoods- Brent Shepard\nGrumpy's- Gridlock 64\nHot Tuna- Bad N
 ews for Barbie\nH20- Octopus & Charleton Phaneuf\nHK on the Bay- Plast
 ic Eddie (Birthday Bash)\nHavanah Nights- Cocktail Piano w/ Live Guest
  (Wed-Sat) 8-11PM\nIL Giardino- Live Entertainment in the lounge w/ Mr
 . Billy Batte- 7PM\nJewish Mother- Bio Ritmo & Mafu Crew\nKnuckleheads
 - Jesse Chong\nKrossroads- West & Daniels\nPoppas Pub- Blue Lords\nSo
 uth Beach Grill - Power Play\nShakas- GLOWSHOW\nThumbs- Freedom Hawk 
 w/ Constrictor, Lo-Pan and Eye\nWing King- Billy Thompson \n \nTHEAT
 RE/FUNDRAISERS/CONCERTS/SPORTS:\nODU Constant Convocation Center- Harl
 em Globetrotters\nSandler Center- Ballet Virginia International presen
 ts \"Alice in Wonderland\", 7:30PM\nScope- Admirals Hockey, 7:15PM\nFu
 nnybone- Godfrey\nWidoe Feast 2012 starting at 15th Street Raw Bar\nWe
 lls Theatre- Death of a Salesman 4 & 8PM\nChrysler Hall- Mr. Marmalade
 , 8PM\nVirginia Beach Convention Center- 2012 Field Hockey National In
 door Tournament, 8AM-8PM\n \nDJ’S/KARAOKE/DANCES:\nAJ Gators (Fairf
 ield)- Karaoke\nAJ Gators (Holland Road)- Karaoke W/ Scotty, 9PM\nBras
 s Bell- Karaoke \nRetro Cafe- Karaoke\nCabo- DJ Corey\nChicho’s 29t
 h - DJ\nCatch 31- DJ Steve Stone, 10PM\nPeabodys- Bash at the Beach w/
  DJ Kendall (Every Saturday)\nJewish Mother- MOMS KARAOKE 8pm\n\nFor m
 ore information visit https://vbnightlife.com/events/click-here-for-sa
 turday-3-3-12-virginia-beach-entertainment-listi
DTSTART:20120303T050000Z
DTEND:20120304T045900Z
CATEGORIES:"virginia beach entertainment", "virginia beach bands", "vi
 rginia beach nightlife"
LOCATION:Virginia Beach
WEBSITE:
URL:
CONTACT:
ORGANIZER;CN="VBnightlife.com":https://vbnightlife.com/profile/admin
ATTACH;FMTTYPE="image/jpeg":http://storage.ning.com/topology/rest/1.0/
 file/get/1664162613?profile=original
ATTENDEE;ROLE=REQ-PARTICIPANT;PARTSTAT=ACCEPTED;RSVP=TRUE;CN="VBnightl
 ife.com":https://vbnightlife.com/profile/admin
END:VEVENT
END:VCALENDAR
