BEGIN:VCALENDAR
PRODID:NingEventWidget-v1
VERSION:2.0
METHOD:PUBLISH
BEGIN:VEVENT
UID:2508951:Event:211815
DTSTAMP:20260420T234956Z
SUMMARY:Click here for SATURDAY 3/2/13 VIRGINIA BEACH ENTERTAINMENT LI
 STINGS
DESCRIPTION:LIVE ENTERTAINMENT/ DJâ€™S/ KARAOKE:\n7 Martini & Tapas- D
 J Silver- Country Night\n11th Street Taphouse- Brandon Bower Band\n15t
 h Street Raw Bar â€“ Grant Austin Taylor Band\n501 City Grill- Trailer
 hood 9:30pm\nBaker Street- Quik Fix\nBoneshakers Sports Bar and Grill 
 -Â  Snackbar Jones\nCalypso- Whiskey Straight\nCentral Library- James 
 Lee Stanley and the Baddadz 7pm\nFinn McCools- Dr. Grin\nFroggies Cant
 ina- Red Stapler Band 8pm\nGrumpys- Audio Sauce\nHot Tuna- Cover This\
 nHunt Room- Lewis McGehee\nIl Giardino's â€“ Billy Batte\nJagers- Grid
 lock 64Â \nJewish Mother Hilltop- OS76, One Among Us, Subtle Skeptics\
 nKeagans- Kari V\nKnuckleheads- Deloreans\nMurphys- Pridemore- 9pm\nPo
 ppas Pub- Full Throttle\nSalty C's- Brent Shepard\nShakas- I The Breat
 her, Wolves at the Gate, Palisides,and several special guests.Â  4:30p
 m\nScandals-Cody Austin Band\nSouth Beach Grill- Butter-9:30pm\nTemptâ
 €“ The Hark\nWoody McGees BarstroÂ - 1st World Problem 9:30pm\n\nSPECI
 AL EVENTS/CONCERTS/ FESTIVALS:\nVirginia Beach Funny Bone- Jay Phillip
 s\nOliver- Sandler Center\nVirginia DECA State Leadership Conference- 
 Virginia Beach Convention Center\nMid Atlantic Home & Garden Show- Vir
 ginia Beach Convention Center\nVirginia Stage Companyâ€™s: The Whippin
 g Man- Wells Theatre\nBill Maher-Chrysler Hall\nNaughty by Nature- Att
 ucks Theatre\nHarlem Globetrotters- Ted Constant Center\nYAAAâ€™s 3rd 
 Annual Black Tie Bowling Event- AMF Chesapeake\nHoe Down Party- Hunt C
 lub Farms 3pm-7pm\nRegent University Theatre Presents: Every Women- St
 udio Theatre- 2:30pm & 7:30pm\nÂ \nCLICK HERE FOR HAPPY HOUR DEALS FEA
 TURING SEVERAL LOCAL RESTAURANTS DAILY SPECIALS\nÂ \nCLICK HERE REACH 
 OUR VENUE'S PAGEÂ TO FIND ADDRESSES AND PHONE NUMBERS OF PLACES LISTED
 \nÂ \nCLICK HERE FOR OUR BAND/DJ PAGEÂ TO FIND DESCRIPTION OF THE BAND
 S AND LINKS TO THEIR WEB PAGES\n\nFor more information visit https://v
 bnightlife.com/events/click-here-for-saturday-3-2-13-virginia-beach-en
 tertainment-listi
DTSTART:20130302T050000Z
DTEND:20130303T045900Z
CATEGORIES:"virginia beach", "virginia beach nightlife", "virginia bea
 ch bands"
LOCATION:Virginia Beach, VA
WEBSITE:
URL:
CONTACT:
ORGANIZER;CN="VBnightlife.com":https://vbnightlife.com/profile/admin
ATTACH;FMTTYPE="image/jpeg":http://storage.ning.com/topology/rest/1.0/
 file/get/1664187689?profile=original
ATTENDEE;ROLE=REQ-PARTICIPANT;PARTSTAT=ACCEPTED;RSVP=TRUE;CN="VBnightl
 ife.com":https://vbnightlife.com/profile/admin
END:VEVENT
END:VCALENDAR
