BEGIN:VCALENDAR
PRODID:NingEventWidget-v1
VERSION:2.0
METHOD:PUBLISH
BEGIN:VEVENT
UID:2508951:Event:272604
DTSTAMP:20260422T105620Z
SUMMARY:Click here for SATURDAY 3/1/14 VIRGINIA BEACH ENTERTAINMENT LI
 STINGS
DESCRIPTION:\nWe have compiled this list of events for your convenienc
 e\nFor Locals, By Locals\n If you know of an event, fundraiser, band o
 r establishment that is not listed here, we want to know!   Click her
 e to give us your feedback and suggestions: http://fs30.formsite.com/v
 bnightlife/form2/index.html\n \nLIVE ENTERTAINMENT/ DJ’S/ KARAOKE:\
 nAbbey Road Pub and Restaurant-Mike Proffitt 9:30pm-1am\nBayside - Bor
 derline Crazy\nBoneshakers- Tailgate Down 9:30pm\nCactus Jacks- DJ 9:3
 0pm\nCatch 31- DJ 11pm\nFinn McCools- Steve Forss 9pm\nHot Tuna- Cover
  This\nInner Harbor Rock & Roll Sports Bars- Karaoke (Hollywood) 9:30-
 close\nHK On The Bay- Plastic Eddie 10pm\nIl Giardino – Billy Batte
  7pm\nJagers- Rich Whiskey 9:30pm\nJewish Mother- 9pm HELLZAPOPPIN CIR
 CUS SIDESHOW REVUE\nKrossroads- TypeCast 9:30pm\nPeabodys-   Peabody
 's Live - w/ Kristen And The Noise 7pm\nPoppa’s Pub- Cosmic Debris 9
 pm \n11th Street Taphouse- Brandon Bower 10pm-close\nSouth Beach Gril
 l- Cheap Thrills 9:30pm-close  \nWanna B’s Karaoke Club- Karaoke 7p
 m-2am \nWing King Sports Club- Karaoke until 8pm\nWoody McGees- Tim H
 opkins 9:30pm\n\nSPECIAL EVENTS/CONCERTS/ FESTIVALS:\nRock of Ages- Fe
 rguson Center\nVSO presents Guitarra Espanola- Regent University\nVirg
 inia Musical Theatre Presents: Children of Eden- Sandler Center\nAdmir
 als Hockey- Norfolk Scope\nPlease note that bookings can change at th
 e last minute.  If times are not available, we recommend checking wi
 th the venue before heading out! \n\nCLICK HERE FOR THE BEST DEALS & 
 COUPONS IN VIRGINIA BEACH FEATURING EXCLUSIVE BARGAINS\n\nCLICK HERE 
 FOR HAPPY HOUR DEALS FEATURING SEVERAL LOCAL RESTAURANTS DAILY SPECIAL
 S\n\nCLICK HERE REACH OUR VENUE'S PAGE TO FIND ADDRESSES AND PHONE NU
 MBERS OF PLACES LISTED\n\nCLICK HERE FOR OUR BAND/DJ PAGE TO FIND DES
 CRIPTION OF THE BANDS AND LINKS TO THEIR  WEB PAGES\n\nFor more infor
 mation visit https://vbnightlife.com/events/click-here-for-saturday-3-
 1-14-virginia-beach-entertainment-listi
DTSTART:20140301T050000Z
DTEND:20140302T045900Z
CATEGORIES:"virginia beach", "virginia beach nightlife", "virginia bea
 ch bands", "virginia beach entertainment"
LOCATION:Virginia Beach, VA
WEBSITE:
URL:
CONTACT:
ORGANIZER;CN="VBnightlife.com":https://vbnightlife.com/profile/admin
ATTACH;FMTTYPE="image/jpeg":http://storage.ning.com/topology/rest/1.0/
 file/get/1664222567?profile=original
ATTENDEE;ROLE=REQ-PARTICIPANT;PARTSTAT=ACCEPTED;RSVP=TRUE;CN="VBnightl
 ife.com":https://vbnightlife.com/profile/admin
END:VEVENT
END:VCALENDAR
