BEGIN:VCALENDAR
PRODID:NingEventWidget-v1
VERSION:2.0
METHOD:PUBLISH
BEGIN:VEVENT
UID:2508951:Event:324105
DTSTAMP:20260422T163304Z
SUMMARY:Click here for SATURDAY 2/6/16 VIRGINIA BEACH EVENT & ENTERTAI
 NMENT LISTINGS
DESCRIPTION:\nSpecial Events\n2016 Polar Plunge Winter Festival - 31s
 t Street on the Ocean Feb 5 & 6 Plunge takes place Saturday at 2p\nVa
  Beach Convention Center - Flower and Garden Expo http://vbnightlife.
 com/events/the-virginia-flower-and-garden-expo-1\nMuseum of Contempora
 ry Art (MOCA) - Now on Exhibit\n\nLIVE ENTERTAINMENT\n501 City Grill 
 - Birdneck Road -  live music 9p\nAbbey Road Pub - John Baldwin 9p\nB
 ella Monte Restaurant & Enoteca - 1201 Laskin Rd - Charlie Wiseman 
 on 9-foot concert grand piano 7 to 10p\nBoneshakers - Little Country
  8:30p \nBucketheads - Shore Drive - Russell Turner 7p\nCalypso Bar &
  Grill - Atlantic Ave - Closed until March\nChicho's - Oceanfront - Un
 ited Souls 10p\nChicho's - Strawbridge - Salt 9p\nEagles Nest - Tyler 
 Hammond 9:45p\nFresh Eats & Drinks -General Booth Blvd - The Blue Mile
  8:30p\nFroggie's Cantina By The Bay - Shore Drive - Lewis McGehee 6p
  UFC 10p\nHot Tuna - Vinyl Headlights 9:30p\nJerry's Restaurant & Loun
 ge - Chesapeake - Plastic Eddie 9:30p\nKeagan's Irish Pub - Town Cente
 r -  10p\nLongshots Billiards and Darts - Chesapeake - Special Events
  9p\nMurphy's Irish Pub -  Powers & McLaughlin 3-7 PM, Ray Meeks 9
 :30\nRY Lounge - Oceanfront - DJ & Dancing 10p\nSouth Beach Grill - Nu
 mber 1 Addiction 9:30p\nTempt Restaurant & Lounge - The Hark 9pm\nWat
 erman's - Atlantic Ave - Karaoke Night on the patio 10p\nWing King - R
 osemont - Blind Toona 9p\nWing King - Centerville - Cover This 9p \
 nWoody McGees - Holland Road - BeBop & Rock Steady 9:30p\n\nFor more i
 nformation visit https://vbnightlife.com/events/click-here-for-saturda
 y-2-6-16-virginia-beach-event-entertainment
DTSTART:20160206T050000Z
DTEND:20160207T045900Z
CATEGORIES:"virginia beach", "virginia beach nightlife", "virginia bea
 ch bands", "virginia beach entertainment", "events in virginia beach",
  "things to do in virginia beach", "mobile app virginia beach"
LOCATION:Virginia Beach, VA
WEBSITE:
URL:
CONTACT:
ORGANIZER:VBnightlife / VBdaylife
ATTACH;FMTTYPE="image/jpeg":http://storage.ning.com/topology/rest/1.0/
 file/get/1664301657?profile=original
ATTENDEE;ROLE=REQ-PARTICIPANT;PARTSTAT=ACCEPTED;RSVP=TRUE;CN="VBnightl
 ife.com":https://vbnightlife.com/profile/admin
END:VEVENT
END:VCALENDAR
