BEGIN:VCALENDAR
PRODID:NingEventWidget-v1
VERSION:2.0
METHOD:PUBLISH
BEGIN:VEVENT
UID:2508951:Event:187396
DTSTAMP:20260421T041419Z
SUMMARY:Click here for SATURDAY 2/4/12 VIRGINIA BEACH ENTERTAINMENT LI
 STINGS
DESCRIPTION:ENTERTAINMENT\n7th at the oceanfront:  POLAR PLUNGE PARTY
  WITH THE DELOREANS\n11th Street Taphouse- Locals Night w/Live Music, 
 10PM\nAJ Gators- David Carter\nBaker Street - Cheaper than Therapy\nBo
 neshakers- DEJA, 8:30\nBayside Inn- Crimes Against Nature Band (Every 
 First Friday)\nChix- Evolution\nDiesel- Live Entertainment\nFinn McCoo
 ls- Live Music\nFunnybone- Dan Cummins\nGeared up- Day of the Beast\nG
 rumpys- Nature's Child\nHot Tuna- Audio Affair\nH20- Jesse Chong\nHava
 na Nights- Live Jazz\nHK on the Bay- Vedette\nHunt Room- Lewis McGehee
 \nIL Giardino- Live Entertainment in the lounge w/ Mr. Billy Batte- 7P
 M\nJewish Mother- Tomorrow Bad Seed/ Passafire/ Pacific Dub\nKeagans- 
 Forss & Coates\nKnuckleheads- Jesse Chong\nKrossroads-West & Daniels\n
 Lucky Oyster- Brent Shepard\nPoppas Pub- Common Ground\nSouth Beach Gr
 ill - Micheal Clark Band\n \nTHEATRE/FUNDRAISERS/CONCERTS/SPORTS:\nPO
 LAR PLUNGE - DAY AND NIGHT - DETAILS HERE\nLittle Theatre of Virginia
  Beach- Getting Away with Murder (through February 5th)\nAngelos- A De
 adly Twist of Fate, 6:30-10PM\nWells Theatre- Black Pearl Sings, 4PM\n
 \nDJ’S/KARAOKE/DANCES:\nAJ Gators (Fairfield)- Karaoke\nAJ Gators (H
 olland Road)- Karaoke W/ Scotty, 9PM\nBrass Bell- Karaoke \nRetro Caf
 e- Karaoke\nCabo- DJ Corey\nChicho’s 29th - DJ\nPeabodys- Bash at th
 e Beach w/ DJ Kendall (Every Saturday)\nJewish Mother- MOMS KARAOKE 8p
 m \n\n\n\nFor more information visit https://vbnightlife.com/events/cl
 ick-here-for-saturday-2-4-12-virginia-beach-entertainment-listi
DTSTART:20120204T050000Z
DTEND:20120205T045900Z
CATEGORIES:"virginia beach", "virginia beach entertainment", "virginia
  beach bands", "virginia beach nightlife"
LOCATION:Virginia Beach
WEBSITE:
URL:
CONTACT:
ORGANIZER;CN="VBnightlife.com":https://vbnightlife.com/profile/admin
ATTACH;FMTTYPE="image/jpeg":http://storage.ning.com/topology/rest/1.0/
 file/get/1664161034?profile=original
ATTENDEE;ROLE=REQ-PARTICIPANT;PARTSTAT=ACCEPTED;RSVP=TRUE;CN="VBnightl
 ife.com":https://vbnightlife.com/profile/admin
END:VEVENT
END:VCALENDAR
