BEGIN:VCALENDAR
PRODID:NingEventWidget-v1
VERSION:2.0
METHOD:PUBLISH
BEGIN:VEVENT
UID:2508951:Event:189723
DTSTAMP:20260423T083146Z
SUMMARY:Click here for SATURDAY 2/25/12 VIRGINIA BEACH ENTERTAINMENT L
 ISTINGS
DESCRIPTION:ENTERTAINMENT\n11th Street Taphouse- Locals Night w/Monkey
 booty, 10PM\n15th Street Raw Bar -\n501 City Grill- Cheaper than Thera
 py\nAbbey Road-  Louis Smith\nBoneshakers- Forefront, 8:30\nCalypso-
  Billy Joe Trio\nCinema Cafe- Comedy at the Cafe\nChix- Everlasting Lo
 unge\nDogwoods- Brent Shepard\nGrumpy's- Wilderness Road\nGreen Parrot
 - Common Ground Band\nHot Tuna- The Office\nH20- TBD\nHavana Nights- J
 oe Locke w/John Toomey Trio, 8 &10PM\nHK on the Bay- Steve Forss\nIL G
 iardino- Live Entertainment in the lounge w/ Mr. Billy Batte- 7PM\nJew
 ish Mother- David Allen Coe, Pawn Show Lifters, Johnny Trash\nKegans- 
 Pridemore\nKnuckleheads- Mob Jack\nKrossroads- West & Daniels\nLucky 
 Oyster- Kevin Kelley\nMurphy's- The Fighting Jamesons\nPoppas Pub- Hat
  Trix\nSandbar Raw Bar- NYSE BY NATURE Mixtape Release Party\nScandals
 - Rock Candy\nStarz- The Banned\nSouth Beach Grill - Quik Fix\n \nTHE
 ATRE/FUNDRAISERS/CONCERTS/SPORTS:\nAttucks Theatre- MPAC Community Ste
 el Band Concert\nFunny Bone Comedy Club - Clash of the Comics- Mar. 13
 th\nScope- 2012 Eastern Region High School Basketball Tournament\nWell
 s Theatre- Death of a Salesman 4 & 8PM\nChrysler Hall- The Grieg Piano
  Concierto 8PM, Mr. Marmalade, 8PM\nChrysler Museum- The North America
 n Treaty Organization (NATO) presents 'Wines of the World' 7-10PM, $30
  per person (Free Parking)\n \nDJ’S/KARAOKE/DANCES:\nAJ Gators (Fai
 rfield)- Karaoke\nAJ Gators (Holland Road)- Karaoke W/ Scotty, 9PM\nBr
 ass Bell- Karaoke \nRetro Cafe- Karaoke\nCabo- DJ Corey\nChicho’s 2
 9th - DJ\nCatch 31- DJ Steve Stone, 10PM\nPeabodys- Bash at the Beach 
 w/ DJ Kendall (Every Saturday)\nJewish Mother- MOMS KARAOKE 8pm\n\nFor
  more information visit https://vbnightlife.com/events/click-here-for-
 saturday-2-25-12-virginia-beach-entertainment-list
DTSTART:20120225T050000Z
DTEND:20120226T045900Z
CATEGORIES:"virginia beach entertainment", "virginia beach bands", "vi
 rginia beach nightlife"
LOCATION:Virginia Beach
WEBSITE:
URL:
CONTACT:
ORGANIZER;CN="VBnightlife.com":https://vbnightlife.com/profile/admin
ATTACH;FMTTYPE="image/jpeg":http://storage.ning.com/topology/rest/1.0/
 file/get/1664163247?profile=original
ATTENDEE;ROLE=REQ-PARTICIPANT;PARTSTAT=ACCEPTED;RSVP=TRUE;CN="VBnightl
 ife.com":https://vbnightlife.com/profile/admin
END:VEVENT
END:VCALENDAR
