BEGIN:VCALENDAR
PRODID:NingEventWidget-v1
VERSION:2.0
METHOD:PUBLISH
BEGIN:VEVENT
UID:2508951:Event:208501
DTSTAMP:20260424T022034Z
SUMMARY:Click here for SATURDAY 12/8/12 VIRGINIA BEACH ENTERTAINMENT L
 ISTINGS
DESCRIPTION:LIVE ENTERTAINMENT/ DJ’S/ KARAOKE:\n11th Street Taphouse
 - Bimini Road\n15th Street Raw Bar - The Get Down\nAbbey Rd.- Pete Ha
 nson\nBaker Street- Live Music\nBayside Inn- Jamie McConnell\nBoneshak
 ers- Gridlock 64\nCabo Cafe- DJ\nCalypso-The Striker Band\nCatch 31- D
 J\nChix- Gangsters of Love\nFrog Sports Bar & Grill- Karaoke by Tara\n
 Froggies- Live Music\nGrumpys-Cody Austin\nHavana Nights  -Jae Sinnet
 t Trio\nHot Tuna- The Hark\nIl Giardino's – Billy Batte\nInner Harbo
 r- Blue Lords\nJagers- Borderline Crazy\nKeagans- Live Music\nKnuckleh
 eads- Karaoke with DJ Bunkie\nLunaSea- DJ\nLucky Oyster- Brent Shepard
 \nMurphys- The Havers\nPeabodys-Lights Electro Dance Party\nPoppas Pub
 - Gatorhead\nScandels- Ever After\nSide Street Cantina- DJ\nSouth Beac
 h Grill-DEJA\nThe Spot- Funhouse 11pm\nWoody McGees Barstro  - Joe He
 ilman\nWing King- Jukes Boogie Trio\n \n \nSPECIAL EVENTS/CONCERTS/ 
 FESTIVALS:\nThe Nutcracker- Sandler Center\nMcDonalds Holiday Lights a
 t the Beach\nArcadia- Generic Theatre\nThe Attucks Nutcracker- Attucks
  Theatre\nA Christmas Carol- Wells Theatre\nHoliday Music Festival- Do
 wntown Portsmouth\nHoliday Brass- Virginia Symphony- Hampton Roads Aca
 demy\nHandels Messiah- Chrysler Hall\n#AMG/Angel- The Norva\nThe Yello
 w Wallpaper- The Little Theatre of Norfolk\nSurf & Santa 10 Miler– V
 irginia Beach Convention Center\nBreakfast With Santa- Virginia Beach 
 Funny Bone\nDan Cummins- Virginia Beach Funny Bone\nAbsolutely Giving 
 Christmas Fundraiser- Jewish Mother Hilltop\n \n \nCLICK HERE FOR HA
 PPY HOUR DEALS FEATURING SEVERAL LOCAL RESTAURANTS DAILY SPECIALS\n \
 nCLICK HERE REACH OUR VENUE'S PAGE TO FIND ADDRESSES AND PHONE NUMBER
 S OF PLACES LISTED\n \nCLICK HERE FOR OUR BAND/DJ PAGE TO FIND DESCR
 IPTION OF THE BANDS AND LINKS TO THEIR WEB PAGES\n\nFor more informati
 on visit https://vbnightlife.com/events/click-here-for-saturday-12-8-1
 2-virginia-beach-entertainment-list
DTSTART:20121208T050000Z
DTEND:20121209T045900Z
CATEGORIES:"virginia beach", "virginia beach nightlife", "virginia bea
 ch bands"
LOCATION:Virginia Beach
WEBSITE:
URL:
CONTACT:
ORGANIZER;CN="VBnightlife.com":https://vbnightlife.com/profile/admin
ATTACH;FMTTYPE="image/jpeg":http://storage.ning.com/topology/rest/1.0/
 file/get/1664182543?profile=original
ATTENDEE;ROLE=REQ-PARTICIPANT;PARTSTAT=ACCEPTED;RSVP=TRUE;CN="VBnightl
 ife.com":https://vbnightlife.com/profile/admin
END:VEVENT
END:VCALENDAR
