BEGIN:VCALENDAR
PRODID:NingEventWidget-v1
VERSION:2.0
METHOD:PUBLISH
BEGIN:VEVENT
UID:2508951:Event:266493
DTSTAMP:20260422T044611Z
SUMMARY:Click here for SATURDAY 11/9/13 VIRGINIA BEACH ENTERTAINMENT L
 ISTINGS
DESCRIPTION:LIVE ENTERTAINMENT/ DJ’S/ KARAOKE:\n11th Street Taphouse
 -Pridemore 9:30pm-1:30am\nBaha- Brian Grilli Band\nBahama Breeze- John
  Baldwin 5pm, Ricky Micou 8pm\nBayside Bar & Grill- Soul Patch 9:30pm\
 nBayside Inn- Chris Brush 9pm\nBlarney Stone Pub- Karaoke\nBoneshakers
  Sports Bar and Grill – Red Cross Fundraiser featuring Red Stapler 
 Acoustic and Marty Cantwell 4pm-8pm, Blue Lords 10pm-1:30am\nCactus Ja
 cks – DJ Rays\nCalypso-Cody Austin Band 12pm-3pm,  Borderline Craz
 y 3pm-6pm\nCatch 31- DJ 11pm\nFinn McCools- Brandon Bower\nFlip Flops-
  Brian Sewell 7pm-10pm\nFroggies- Almost Famous Band 8pm\nGrumpys- Ric
 h Whiskey 9;30pm\nHK on the Bay- Red Stapler\nHot Tuna- Spin City 10pm
 \nIl Giardino – Billy Batte 7pm\nJagers- Richie Storm & The Thunder
 heads 9:30pm\nJewish Mother- The Lomp\nKeagans- Billy Joe Trio\nLucky 
 Oyster- Brent Shepard 1pm-4m\nLulus- Ray Meeks\nMurphys- Martin Marron
 \nParlays 3- Dave Cynar\nPoppas Pub- Tailgate Down\nScandals- Borderli
 ne Crazy 9:30pm\nSouth Beach Grill- Plastic Eddie\nWing King- The SunS
 howers\nWoody McGees Barstro – Jukes Boogie Trip 9:30pm\n \nSPECIA
 L EVENTS/CONCERTS/ FESTIVALS:\nThe 10- First Landing State Park 9am\nC
 arrie: The Musical- Generic Theatre\nWomen’s Basketball Vs. Delaware
  State\nFreedom 5k’s and Award Ceremonies- Town Point Park 7:55am-11
 am\nHealth & Fitness Expo- Town Point Park 11am-5pm\nEddie Griffin - V
 irginia Beach Funny Bone\nProof- Little Theatre of Norfolk\nVirginia S
 tage Company ‘Woman In Black’- Wells Theatre\nNorfolk Admirals Gam
 e- Scope\nStreetlight Manifesto- The Norva\nAaron Neville- Sandler Cen
 ter 8pm\nVirginia Symphony Gershwin & More American Classics- Regent U
 niversity 8pm\n \n \nBookings can change at the last minute, so we r
 ecommend checking with the venue before heading out!\n \nCLICK HERE F
 OR THE BEST DEALS & COUPONS IN VIRGINIA BEACH FEATURING EXCLUSIVE BAR
 GAINS\n \nCLICK HERE FOR HAPPY HOUR DEALS FEATURING SEVERAL LOCAL RES
 TAURANTS DAILY SPECIALS\n \nCLICK HERE REACH OUR VENUE'S PAGE TO FIN
 D ADDRESSES AND PHONE NUMBERS OF PLACES LISTED\n \nCLICK HERE FOR OUR
  BAND/DJ PAGE TO FIND DESCRIPTION OF THE BANDS AND LINKS TO THEIR WEB
  PAGES\n\nFor more information visit https://vbnightlife.com/events/cl
 ick-here-for-saturday-11-9-13-virginia-beach-entertainment-list
DTSTART:20131109T050000Z
DTEND:20131110T045900Z
CATEGORIES:"virginia beach", "virginia beach nightlife", "virginia bea
 ch bands", "virginia beach entertainment"
LOCATION:Virginia Beach, VA
WEBSITE:
URL:
CONTACT:
ORGANIZER;CN="VBnightlife.com":https://vbnightlife.com/profile/admin
ATTACH;FMTTYPE="image/jpeg":http://storage.ning.com/topology/rest/1.0/
 file/get/1664215089?profile=original
ATTENDEE;ROLE=REQ-PARTICIPANT;PARTSTAT=ACCEPTED;RSVP=TRUE;CN="VBnightl
 ife.com":https://vbnightlife.com/profile/admin
END:VEVENT
END:VCALENDAR
