BEGIN:VCALENDAR
PRODID:NingEventWidget-v1
VERSION:2.0
METHOD:PUBLISH
BEGIN:VEVENT
UID:2508951:Event:299297
DTSTAMP:20260422T123058Z
SUMMARY:Click here for SATURDAY 11/8/14 VIRGINIA BEACH EVENT & ENTERTA
 INMENT LISTINGS
DESCRIPTION:Search VBnightlife in the app store to download our mobile
  app!   FEATURED EVENT:\nCHEAP THRILLS AT VIRGINIA MOCA - FOR THE GIV
 ING GALA - PRESENTED BY THE LITTLE NECK CIRCLE OF THE KING'S DAUGHTERS
 \n\nBenefit for Mike Bremus - AJ Gators Witchduck Rd - Benefit for Mi
 ke Bremus w/ Live Music All Day and Tons of Raffle and Silent Auction 
 Items - Discount tickets available on www.VBhotdeals.com\n\nPungo Cr
 aft Beer Festival - Exclusive Discount Code to the Pungo Craft Beer F
 estival\n\nLIVE ENTERTAINMENT \nAbbey Road Pub - Chad Mosson  9:30p
 m\nAmmos Authentic Greek (Great Neck) Belly Dancing Show 8pm every Sa
 turday\nBahama Breeze - Bianca Hicks 5 to 12\nBoneshakers - River Boy
 z  9pm\nCalypso - OYSTER ROAST ** 12-6pm \"JACK BECKER\" + \"FERAL\
 " 8pm   - $50\nCentral Library - TMAF CONCERT * \"MATT THOMAS\" /w KI
 M PERSON & LANA PUCKETT\" 7pm $$\nChicho's 29th  - \nCHIX Sea Grill
  (7th Street) Inside - The Get Down 9:30 pm\nEagles Nest - HILLTOP -
   David Cynar\nFresh Eats and Drinks -  Johnny Trash and the scoundr
 els, Click here to Purchase your 1/2 price voucher for food and drink
 \nFroggies -  Lewis McGehee 8:30 pm \nGrumpy's - Electric\nHK on the
  Bay - Live Music 10pm\nHot Tuna -  Ryan Hines 10pm\nIl Giardino - 
 Billy Batte 6pm *\nJager's - KRUNCH 9pm\nJerry's Restaurant and Loung
 e - Chesapeake -  The Blue Lords  9:30 - 1:30am - Get your 1/2 price
  coupon here: www.vbhotdeals.com\nKeagan's - Town Center - Billy Joe 
 Trio\nLucky Oyster - General Booth -  Good Vibes\nMurphy's Irish Pub
  -  Nature's Child  9pm \nPoppa's Pub -   9pm  \nSly Fox - Shor
 e Drive - Happy Hour specials from 11:30am to 7pm + Marty Moore 9pm\nS
 outh Beach Grill -     9:30pm    \nStan's American Bistro - Step
 penstone 9pm\nTapped Gastropub -  9pm\nVirginia MOCA - Cheap Thrills 
 7 to 11 for the Giving Gala\nWing King - Rosemont -  Mink and Chief 
 9pm\nWing King Kempsville - Steve Forss Band 9 pm\nWoody McGee's Bars
 tro -   Blood for Guns  9pm \n\nFor more information visit https:/
 /vbnightlife.com/events/click-here-for-saturday-11-8-14-virginia-beach
 -event-entertainmen
DTSTART:20141108T050000Z
DTEND:20141109T045900Z
CATEGORIES:"virginia beach", "virginia beach nightlife", "virginia bea
 ch bands", "virginia beach entertainment", "events in virginia beach",
  "things to do in virginia beach", "mobile app virginia beach"
LOCATION:Virginia Beach, VA
WEBSITE:
URL:
CONTACT:
ORGANIZER:vbnightlife
ATTACH;FMTTYPE="image/jpeg":http://storage.ning.com/topology/rest/1.0/
 file/get/1664255898?profile=original
ATTENDEE;ROLE=REQ-PARTICIPANT;PARTSTAT=ACCEPTED;RSVP=TRUE;CN="VBnightl
 ife.com":https://vbnightlife.com/profile/admin
END:VEVENT
END:VCALENDAR
