BEGIN:VCALENDAR
PRODID:NingEventWidget-v1
VERSION:2.0
METHOD:PUBLISH
BEGIN:VEVENT
UID:2508951:Event:299488
DTSTAMP:20260423T133704Z
SUMMARY:Click here for SATURDAY 11/29/14 VIRGINIA BEACH EVENT & ENTERT
 AINMENT LISTINGS
DESCRIPTION:Search VBnightlife in the app store to download our mobile
  app! \n\nSpecial Events:\n3rd Annual Santa on the Beach to Benefit t
 he Virginia Beach Lifeguard Association\nColonial Shooting Academy - 
  Black Friday Specials extended; Save 98% on Membership http://us2.cam
 paign-archive1.com\nCountry Christmas at Hunt Club Farm - NOON TO 9PM 
 Purchase discount vouchers here: www.VBhotdeals.com\nIce Skating at t
 he Oceanfront - 10AM TO 11PM Purchase Discount vouchers here: www.VBh
 otdeals.com\nLongshots Billiards & Darts - Chesapeake - Military Appr
 eciation Day - Free Pool and drink discounts for the military\n\nLIVE 
 ENTERTAINMENT \nAbbey Road Pub -   Pat Higgins 9:30pm\nAmmos Authen
 tic Greek Cuisine - Greek Night w/Live Band\nBahama Breeze - Bianca H
 icks 5 to 12\nBoneshakers - The Hear and Now Band (from Richmond)  9p
 m\nCalypso - Nitrofish 8pm  \nChicho's 29th - Jesse Chong 10pm\nCHIX
  Sea Grill (7th Street) Inside - Kaboombox 9:30 pm\nFresh Eats and Dr
 inks -  Michelle King and The Blue Mile 8:30 Click here to Purchase 
 your 1/2 price voucher for food and drink\nFroggies -  Ever After 8:3
 0 pm \nGrumpy's - River Boyz\nHK on the Bay - Vinyl Headlights 10pm\n
 Hot Tuna -  DJ 10pm\nJager's - Brian Grilli Band 9:30 \nJerry's Re
 staurant and Lounge - Chesapeake -  JD Silvia Band   9:30 - 1:30am -
  Get your 1/2 price coupon here: www.vbhotdeals.com\nKeagan's Irish P
 ub (Town Center) - Rockstar Parking 10pm\nMurphy's Irish Pub -  The 
 Fighting Jamesons 9pm \nSly Fox - Shore Drive - Happy Hour specials f
 rom 11:30am to 7pm + Marty Moore 9pm\nSouth Beach Grill - Plastic Edd
 ie 9:30pm    \nStan's American Bistro - HM Johnson 8pm\nTapped Gast
 ropub - John Friedman & Justin Humpleby  9pm\nWing King - Rosemont - 
  Ax to Grind 9pm\nWing King Kempsville -   9 pm\nWoody McGee's Bars
 tro -   Karl Werne  9pm \n\nFor more information visit https://vbn
 ightlife.com/events/click-here-for-saturday-11-29-14-virginia-beach-ev
 ent-entertainme
DTSTART:20141129T050000Z
DTEND:20141130T045900Z
CATEGORIES:"virginia beach", "virginia beach nightlife", "virginia bea
 ch bands", "virginia beach entertainment", "events in virginia beach",
  "things to do in virginia beach", "mobile app virginia beach"
LOCATION:Virginia Beach, VA
WEBSITE:
URL:
CONTACT:
ORGANIZER:vbnightlife
ATTACH;FMTTYPE="image/jpeg":http://storage.ning.com/topology/rest/1.0/
 file/get/1664255776?profile=original
ATTENDEE;ROLE=REQ-PARTICIPANT;PARTSTAT=ACCEPTED;RSVP=TRUE;CN="VBnightl
 ife.com":https://vbnightlife.com/profile/admin
END:VEVENT
END:VCALENDAR
