BEGIN:VCALENDAR
PRODID:NingEventWidget-v1
VERSION:2.0
METHOD:PUBLISH
BEGIN:VEVENT
UID:2508951:Event:299390
DTSTAMP:20260422T221518Z
SUMMARY:Click here for SATURDAY 11/22/14 VIRGINIA BEACH EVENT & ENTERT
 AINMENT LISTINGS
DESCRIPTION:Search VBnightlife in the app store to download our mobile
  app!    \nLIVE ENTERTAINMENT \nAbbey Road Pub -   DOUG DUNN , MA
 RK DUNN, & MIKE DOYLE 9:30pm\nAmmos Authentic Greek (Great Neck) Bell
 y Dancing Show 8pm every Saturday\nBahama Breeze - Bianca Hicks 5 to
  12\nBoneshakers - River Boyz  9pm\nCalypso - Gridlock 64 8pm  \nCh
 icho's 29th  - \nCHIX Sea Grill (7th Street) Inside - Kaboombox 9:
 30 pm\nEagles Nest - HILLTOP -   SCARLETTA Featuring KEVIN MAC LIVE
  9:30pm\nFresh Eats and Drinks -  Click here to Purchase your 1/2 pri
 ce voucher for food and drink  Dave Johnson and Kate Kelly 7pm\nFrog
 gies -  Childz Play 8:30 pm \nHK on the Bay - The Gold Sauce 10pm\nH
 ot Tuna -  Spin City 10pm\nIl Giardino - Billy Batte 6pm *\nJager's
  - Cody Austin Band 9pm\nJerry's Restaurant and Lounge - Chesapeake -
    Feral  9:30 - 1:30am - Get your 1/2 price coupon here: www.vbhot
 deals.com\nKrossroads - Typecast 9pm\nLucky Oyster - General Booth - 
   \nMurphy's Irish Pub -  Cheap Thrills  9pm \nSly Fox - Shore D
 rive - Happy Hour specials from 11:30am to 7pm + Marty Moore 9pm\nSout
 h Beach Grill -     9:30pm    \nStan's American Bistro - Baddadz
  8pm\nTapped Gastropub -  9pm\nWing King - Rosemont -  The Williams 
 Brothers Blues Band  9pm\nWing King Kempsville  - Mink and Chief's 
 Electric Band - 9 pm\nWoody McGee's Barstro -   Marah and Jimmy  
 9pm \n\nSpecial Events:\n Light Up the Town - Illumination of Town C
 enter\nPsychic Fair at the A.R.E.\nMcDonald's Holiday Lights at the Be
 ach\nOLD BEACH FARMER'S MARKET\n\nFor more information visit https://v
 bnightlife.com/events/click-here-for-saturday-11-22-14-virginia-beach-
 event-entertainme
DTSTART:20141122T050000Z
DTEND:20141123T045900Z
CATEGORIES:"virginia beach", "virginia beach nightlife", "virginia bea
 ch bands", "virginia beach entertainment", "events in virginia beach",
  "things to do in virginia beach", "mobile app virginia beach"
LOCATION:Virginia Beach, VA
WEBSITE:
URL:
CONTACT:
ORGANIZER:vbnightlife
ATTACH;FMTTYPE="image/jpeg":http://storage.ning.com/topology/rest/1.0/
 file/get/1664255386?profile=original
ATTENDEE;ROLE=REQ-PARTICIPANT;PARTSTAT=ACCEPTED;RSVP=TRUE;CN="VBnightl
 ife.com":https://vbnightlife.com/profile/admin
END:VEVENT
END:VCALENDAR
