BEGIN:VCALENDAR
PRODID:NingEventWidget-v1
VERSION:2.0
METHOD:PUBLISH
BEGIN:VEVENT
UID:2508951:Event:318539
DTSTAMP:20260424T050140Z
SUMMARY:Click here for SATURDAY 11/21/15 VIRGINIA BEACH EVENT & ENTERT
 AINMENT LISTINGS
DESCRIPTION:\nSpecial Events\nCadence Fest - 6 bands + unlimited craft
  beer featuring 36 brews from 16 virginia brewers - $28 discount Ticke
 ts available here: http://www.vbhotdeals.com/Cadence-Command-LLC/Virg
 inia-Beach/23457/deals/General-Admission--Includes-Glass-and-Unlimited
 -Beer-Tasting-from-20-Virginia-Brewers--6-Bands/98577/2527\nAdventure 
 Park at the Virginia Aquarium- $5 Off General Admission With Promo Co
 de VBLIFE here: http://bit.ly/1FhDqIF \n\nLIVE ENTERTAINMENT\nAbbey 
 Road Pub - Acoustic Dynamite 9p\nBoneshakers - Skip Friel & The Reso
 nators 8p \nCalypso Bar & Grill - Atlantic Ave -  Band info not lis
 ted on their site  7p\nChicho's - 29th Street - TBA  9p\nCocomo Joe'
 s - 31st Street - Jack Becker 9p\nEagles Nest - Cody Austin Band 9:
 45p\nFroggie's Cantina By The Bay - Shore Drive - Almost Famous Band 
 10p\nKeagan's Irish Pub - Town Center - Plastic Eddie 10p\nLongshots 
 Billiards and Darts - Chesapeake - 9p\nMurphy's Irish Pub - Don Bun
 ch 10p\nRY Lounge - Oceanfront - DJ & Dancing 10p\nSouth Beach Grill 
 - Number 1 Addiction 9:30p\nTapped Gastropub - Hilltop - Live Music
  - Bebop & Rock Steady 10p\nThe Pearl Club - Great Neck - DJ 10pm\nWin
 g King - Rosemont - Bad Weather Birds 9p  \nWing King - Centervill
 e - Blue Lords 9p \nWoody McGees - Holland Road - 1st World Probl
 ems 9p\n\nFor more information visit https://vbnightlife.com/events/c
 lick-here-for-saturday-11-21-15-virginia-beach-event-entertainme
DTSTART:20151121T050000Z
DTEND:20151122T045900Z
CATEGORIES:"virginia beach", "virginia beach nightlife", "virginia bea
 ch bands", "virginia beach entertainment", "events in virginia beach",
  "things to do in virginia beach", "mobile app virginia beach"
LOCATION:Virginia Beach, VA
WEBSITE:
URL:
CONTACT:
ORGANIZER:VBnightlife / VBdaylife
ATTACH;FMTTYPE="image/jpeg":http://storage.ning.com/topology/rest/1.0/
 file/get/1664290188?profile=original
ATTENDEE;ROLE=REQ-PARTICIPANT;PARTSTAT=ACCEPTED;RSVP=TRUE;CN="VBnightl
 ife.com":https://vbnightlife.com/profile/admin
END:VEVENT
END:VCALENDAR
