BEGIN:VCALENDAR
PRODID:NingEventWidget-v1
VERSION:2.0
METHOD:PUBLISH
BEGIN:VEVENT
UID:2508951:Event:175888
DTSTAMP:20260420T152217Z
SUMMARY:Click here for SATURDAY 11/19/11 VIRGINIA BEACH ENTERTAINMENT 
 LISTINGS
DESCRIPTION:ENTERTAINMENT\n11th Street Taphouse- Locals Night- Cheap T
 hrills\n15th Street Raw Bar- DEJA\n501 City Grill- Wait Till Friday\nA
 bbey Road- Joel Heilman- 9:30PM\nBaker Street- Borderline Crazy- 9PM\n
 Catch 31 â€“ Elegant Dance Party w/ DJ Bryan One- 10PM\nFinn McCools- 
 Jack Becker- 9PM\nGreen Parrot- Pete Hansen\nGreen Onion- Kaycee McGhe
 e\nHot Tuna- The Office\nHK on the Bay- Vince Kornegy Band- 9:30PM\nH2
 0- Dana Silvercloud w/ Suzy and the Naturals- 10PM\nIL Giardino- Live 
 entertainment in the lounge w/ Mr. Billy Batte- 7PM\nKegans- Zephyr- 1
 0PM\nLucky Oyster- Steve Forss\nPoppa's Pub- Strange Brew\nSouth Beach
  Grill- Audio Sauce\nSwell- MonkeybootyÂ \n\nTHEATRE/FUNDRAISERS/CONCE
 RTS/SPORTS:\nAdmirals @ St. Johns- 6PM\nSharX vs. Milwaukee- 7PM\nThe 
 Little Theatre of Virginia Beach presents Jekyll & Hyde- 8PM\nÂ \nDJâ€
 ™S/KARAOKE/DANCES:\nChichoâ€™s 29th - VITAL DANCE NIGHT 9pm Lendyâ€™s 
 - *KARAOKE*\nRetro Cafe - DJ DEXX Â 10PM\nÂ \nFAMILY FUN/SPECIAL EVENT
 S\nCalypso- 1st Annual Oyster Roast\nVirginia Beach Field House- InMot
 ion FREE injury clinic- 9AM\nÂ \nHAPPY HOUR\nCLICK HERE FOR HAPPY HOUR
  DEALS\nCLICK HERE REACH OUR VENUE'S PAGEÂ Â \nCLICK HERE FOR OUR BAND
 /DJ PAGEÂ Â \n\nFor more information visit https://vbnightlife.com/eve
 nts/click-here-for-saturday-11-19-11-virginia-beach-entertainment-lis
DTSTART:20111119T050000Z
DTEND:20111120T045900Z
CATEGORIES:"virginia beach entertainment", "virginia beach nightlife",
  "virginia beach bands"
LOCATION:\"Virginia Beach\"
WEBSITE:
URL:
CONTACT:
ORGANIZER;CN="VBnightlife.com":https://vbnightlife.com/profile/admin
ATTACH;FMTTYPE="image/jpeg":http://storage.ning.com/topology/rest/1.0/
 file/get/1664152619?profile=original
ATTENDEE;ROLE=REQ-PARTICIPANT;PARTSTAT=ACCEPTED;RSVP=TRUE;CN="VBnightl
 ife.com":https://vbnightlife.com/profile/admin
END:VEVENT
END:VCALENDAR
