BEGIN:VCALENDAR
PRODID:NingEventWidget-v1
VERSION:2.0
METHOD:PUBLISH
BEGIN:VEVENT
UID:2508951:Event:299301
DTSTAMP:20260422T192745Z
SUMMARY:Click here for SATURDAY 11/15/14 VIRGINIA BEACH EVENT & ENTERT
 AINMENT LISTINGS
DESCRIPTION:Highlighted list of Events Below. For a More Comprehensive
  List  Search VBnightlife in the app store to download our mobile app
 !   Special events:\nVirginia Beach Chocolate Festival: Get your 1/2 
 price voucher here: www.VBhotdeals.com\nBodacious Bazaar - Hampton Co
 liseum - http://vbnightlife.com/events/the-bodacious-bazaar-where-the
 re-is-something-for-everyone\nCamp Pendleton: FALL CAJUN CRAWFISH BEE
 R AND WINE FESTIVAL TO BENEFIT LOCAL CHARITIES THRU YOUTH SERVICES CLU
 B\n\nSmartmouth Brewery Invasion at the Sly Fox 2 to 6 with Justin Fur
 low http://vbnightlife.com/events/smartmouth-brewery-invasion-at-the-
 sly-fox\n\nFall Oyster Hooley at Murphy's Irish Pub: http://vbnightli
 fe.com/events/fall-oyster-hooley-at-murphy-s-irish-pub\n\nLIVE ENTERTA
 INMENT \nAbbey Road Pub - 3 Guys on a Corner  9:30pm\nAmmos Authent
 ic Greek (Great Neck) Belly Dancing Show 8pm every Saturday\nBaja Res
 taurant Sandbridge -  J and the Band 7pm\nBoneshakers - Karnivale - F
 ull Band  9pm\nCalypso - Rockstar Parking 8pm  \nChicho's - Session
  Rockers \nCHIX Sea Grill (7th Street) Inside - Jack Becker 9:30 pm\
 nCobalt Grill - Dave Johnson 9pm\nEagles Nest - HILLTOP -   Buckshot
  9pm\nFroggies -  Moaning Lisas 8:30 pm \nHK on the Bay - Plastic Ed
 die 10pm\n Jager's - Rich Whiskey 9pm\nJerry's Restaurant and Lounge
  - Chesapeake -  Anthony Rosano and the Conqueroos   9:30 www.vbhot
 deals.com\n Murphy's Irish Pub -  Jack Becker 1 - 4pm; Don Bunch  
 9pm + Fall Oyster Hooley - Details here: http://vbnightlife.com/event
 s/fall-oyster-hooley-at-murphy-s-irish-pub\nSly Fox - Shore Drive -  
 Smartmouth Brewery Invasion at the Sly Fox 2 to 6 with Justin Furlow\n
  Stan's American Bistro - The Dynamos 8pm\nWing King - Rosemont -  
 Billy Thompson 9pm\nWing King Kempsville - Wave Mechanics 9 pm\nWoody
  McGee's Barstro -  Shuffle Brothers   9pm \n\nFor more informatio
 n visit https://vbnightlife.com/events/click-here-for-saturday-11-15-1
 4-virginia-beach-event-entertainme
DTSTART:20141115T050000Z
DTEND:20141116T045900Z
CATEGORIES:"virginia beach", "virginia beach nightlife", "virginia bea
 ch bands", "virginia beach entertainment", "events in virginia beach",
  "things to do in virginia beach", "mobile app virginia beach"
LOCATION:Virginia Beach, VA
WEBSITE:
URL:
CONTACT:
ORGANIZER:vbnightlife
ATTACH;FMTTYPE="image/jpeg":http://storage.ning.com/topology/rest/1.0/
 file/get/1664253874?profile=original
ATTENDEE;ROLE=REQ-PARTICIPANT;PARTSTAT=ACCEPTED;RSVP=TRUE;CN="VBnightl
 ife.com":https://vbnightlife.com/profile/admin
END:VEVENT
END:VCALENDAR
