BEGIN:VCALENDAR
PRODID:NingEventWidget-v1
VERSION:2.0
METHOD:PUBLISH
BEGIN:VEVENT
UID:2508951:Event:175979
DTSTAMP:20260420T123014Z
SUMMARY:Click here for SATURDAY 11/12/11 VIRGINIA BEACH ENTERTAINMENT 
 LISTIGNS
DESCRIPTION:ENTERTAINMENT:\n11th Street Taphouse- Locals Night- The Of
 fice\n15th Street Raw Bar- John Phesant\nBoneshakers- Rock Candy\nFinn
  McCools- Steve Forss\nH20- Jesse Chong- 10PM\nHK On The Bay- Brandon 
 Bower\nHot Tuna- Fine Swiss Cheese\nGreen Onion- Blue Mile Band\nIL Gi
 ardino- Live entertainment in the lounge w/ Mr. Billy Batte- 7PM\nJewi
 sh Mother- Ellersoul Blues- 9PM\nKegans- Billy Joe Trio- 10PM\nKnuckle
 heads- Krunch\nPoppa's Pub- Blue Lords\nSouth Beach Grill- Quik Fix- 9
 PM\n \nTHEATRE/FUNDRAISERS/CONCERTS/SPORTS:\nAbbey Road- Fire Fighter
 s Benefit- Pete Hansen + Mike Profitt + Louis Smith- $25\nAdmirals @ W
 -B/Scranton- 7:05PM\nPinboys at the Beach- Bowling Fundraiser for Panc
 reatic Cancer- 1-4PM\nAbbey Road- Pete Hansen, Mike Proffitt, and Loui
 s Smtih Burnin' Down the House (Fallen Firefighters Memorial Fund)- 5P
 M\nSandler Center- Tchaikovsky's Capriccio Italien-2:30PM\nThe Little 
 Theatre of Virginia Beach presents Jekyll & Hyde- 8PM\n \nDJ’S/KARA
 OKE/DANCES:\nBrass Bell - *KARAOKE* 9PM Catch 31 – *LIVE DJ*\nChicho
 ’s 29th - VITAL DANCE NIGHT 9pm\nHarry O’s – FAMILY KARAOKE & TA
 LENT 2-5PM || MUSIC w/ QUE 9PM\nLendy’s - *KARAOKE*\nOffice - *KARAO
 KE*\nParlays – *KARAOKE*\nPlaza Azteca - *KARAOKE*\nReef Lounge - *K
 ARAOKE*  9PM\nRetro Cafe - DJ DEXX  10PM\n \nFAMILY FUN/ SPECIAL EV
 ENTS\nVirginia Beach Field House- InMotion FREE injury clinic- 9AM\n 
 \nHappy Hour: \n11th Street Taphouse– bogo half-a-tizers 4-9pm\n1
 5th Street Raw Bar – clams .50 oysters .75 3-7pm, ny strip + 2 si
 des = $13.99\n21st Street Tiki Bar - $2 domestics, $2.50 imports & 
 well drinks, large pizza + pitcher beer = $13.99 4-9pm || $1 jello sho
 ts, $1.50 mickeys/pbr/natty, $4 jager/fireball/flavored vodka monster 
 bombs\nChicho’s Pizza 29th Street - $2 wells & domestics, $5 pitche
 rs 4-9pm, $1 wells 9-10:30pm, $2 wells 10:30-cl || $1 cheese pizza sli
 ce, $6.99 large cheese pizza\nChix Sea Grill and Bar (7th Street) - 
 $6.50 lunch specials\n \nCLICK HERE FOR MORE HAPPY HOUR DEALS\n \nCL
 ICK HERE REACH OUR VENUE'S PAGE TO FIND ADDRESSES AND PHONE NUMBERS O
 F PLACES LISTED CLICK HERE FOR OUR BAND/DJ PAGE TO FIND DESCRIPTION O
 F THE BANDS AND LINKS TO THEIR WEB PAGES\n \nBookings can change at t
 he last minute, so we recommend checking with the venue before heading
  out!\n\nFor more information visit https://vbnightlife.com/events/cli
 ck-here-for-saturday-11-12-11-virginia-beach-entertainment-lis
DTSTART:20111112T050000Z
DTEND:20111113T045900Z
CATEGORIES:"virginia beach entertainment", "virginia beach bands", "vi
 rginia beach"
LOCATION:\"Virginia Beach\"
WEBSITE:
URL:
CONTACT:
ORGANIZER;CN="VBnightlife.com":https://vbnightlife.com/profile/admin
ATTACH;FMTTYPE="image/jpeg":http://storage.ning.com/topology/rest/1.0/
 file/get/1664153416?profile=original
ATTENDEE;ROLE=REQ-PARTICIPANT;PARTSTAT=ACCEPTED;RSVP=TRUE;CN="VBnightl
 ife.com":https://vbnightlife.com/profile/admin
END:VEVENT
END:VCALENDAR
