BEGIN:VCALENDAR
PRODID:NingEventWidget-v1
VERSION:2.0
METHOD:PUBLISH
BEGIN:VEVENT
UID:2508951:Event:170389
DTSTAMP:20260420T110525Z
SUMMARY:Click here for SATURDAY 10/01/11 VIRGINIA BEACH ENTERTAINMENT 
 LISTING
DESCRIPTION:ENTERTAINMENT:\n\n15th Street Raw Bar- West and Daniels\nA
 bbey Road -Pete Hanson and Larry Emmanuel 9:30pm\nBaker StreetÂ - GRID
 LOCK 64\nCalypso- mOcean-2-6pm, THE CODY AND AUSTIN BAND 7PM-11PM\nCro
 wne Plaza Hotel- WISE GUYS MC&A: FISH FRY/CAR & BIKE SHOW 12PM-4PM\nHo
 t Tuna-THE OFFICE\nPoppa's Pub - VB \"\"FULL THROTTLE\"\nSouth Beach G
 rill - VB \"EL KaBONG\"\nStarz-WILDERNESS ROAD\nSurf Club- MIKE PROFFI
 TT-6-9pm\nZest- LIVESTRONG DAY BEER TASTING\n\nNEPTUNE FESTIVAL:\n13th
  Street Family Stage\nÂ â–ª 01:00-03:00pm - DREAM LITTLE DREAMERÂ \nÂ 
 â–ª 03:30-04:30pm - KARESSÂ \nâ–ª 05:00-06:00pm - THE ARAGONA PROJECTÂ
  \nâ–ª 06:30-07:30pm - ZIG ZAGÂ \nâ–ª 08:00-09:00pm - MOCEANÂ \n17th S
 treet Stage\nâ–ª 01:00-03:00pm - CODY AUSTIN BANDÂ \nâ–ª 03:30-05:00pm
  - RICH WHISKEYÂ \nâ–ª 05:30-07:00pm - RHONDELSÂ \nâ–ª 07:30-09:00pm -
  CAROLINA SOUL BANDÂ \nâ–ª 09:00pm ***** FIREWORKS *****Â \nâ–ª 09:30-
 11:00pm - CAROLINA SOUL BANDÂ \n24th Street Stage\nâ–ª 01:00-03:00pm -
  HEATHER JEANETTE & ZEPHYRÂ \nâ–ª 03:30-05:00pm - GINA DALMAS & COW TI
 PPIN PLAYBOYSÂ \nâ–ª 05:30-07:00pm - RIVER BOYZÂ \nâ–ª 07:30-09:00pm -
  MOLLY HATCHETÂ \nâ–ª 09:00pm ***** FIREWORKS *****Â \nâ–ª 09:30-11:00
 pm - RHYTHM PIGSÂ \n31st Street Stage\nâ–ª 01:00-03:00pm - GUAVA JAMÂ 
 \nâ–ª 03:30-05:00pm - JOE GOSMAN BANDÂ \nâ–ª 05:30-07:00pm - DEJAÂ \nâ
 –ª 07:30-09:00pm - BORDERLINE CRAZYÂ \nâ–ª 09:00pm ***** FIREWORKS ***
 **Â \nâ–ª 09:30-11:00pm - THE FIXX\nÂ \nÂ \nÂ \nÂ \nTHEATRE/FUNDRAISER
 S/CONCERTS/SPORTS:\nÂ \nÂ \nDJâ€™S/KARAOKE/DANCES:\nCabo Cafe- DJ RAW 
 BASS\nBrass Bell - *KARAOKE* 9PMCatch 31 â€“ *LIVE DJ*Chichoâ€™s 29th 
 - VITAL DANCE NIGHT 9pmHarry Oâ€™s â€“ FAMILY KARAOKE & TALENT 2-5PM |
 | MUSIC w/ QUE 9PMLendyâ€™s - *KARAOKE*Office - *KARAOKE*Parlays â€“ *
 KARAOKE*Plaza Azteca - *KARAOKE*Reef Lounge - *KARAOKE* Â 9PMRetro Caf
 e - DJ DEXX Â 10PM\nÂ \nÂ \nÂ \nÂ \nÂ \nÂ \nÂ \nÂ \nBookings can chang
 e at the last minute, so we recommend checking with the venue before h
 eading out!CLICK HERE REACH OUR VENUE'S PAGE TO FIND ADDRESSES AND PHO
 NE NUMBERS OF PLACES LISTEDCLICK HERE FOR OUR BAND/DJ PAGE TO FIND DES
 CRIPTION OF THE BANDS AND LINKS TO THEIR WEB PAGES\nÂ \n\nFor more inf
 ormation visit https://vbnightlife.com/events/click-here-for-saturday-
 10-01-11-virginia-beach-entertainment-lis
DTSTART:20111001T040000Z
DTEND:20111002T035900Z
CATEGORIES:"virginia beach events", "virginia beach entertainment", "v
 irginia beach bands", "virginia beach djs", "virginia beach family fun
 ", "virginia beach fundraisers"
LOCATION:Virginia Beach
WEBSITE:
URL:
CONTACT:
ORGANIZER;CN="VBnightlife.com":https://vbnightlife.com/profile/admin
ATTACH;FMTTYPE="image/jpeg":http://storage.ning.com/topology/rest/1.0/
 file/get/1664155620?profile=original
ATTENDEE;ROLE=REQ-PARTICIPANT;PARTSTAT=ACCEPTED;RSVP=TRUE;CN="VBnightl
 ife.com":https://vbnightlife.com/profile/admin
END:VEVENT
END:VCALENDAR
