BEGIN:VCALENDAR
PRODID:NingEventWidget-v1
VERSION:2.0
METHOD:PUBLISH
BEGIN:VEVENT
UID:2508951:Event:322936
DTSTAMP:20260423T112736Z
SUMMARY:Click here for SATURDAY 1/2/16 VIRGINIA BEACH EVENT & ENTERTAI
 NMENT LISTINGS
DESCRIPTION:\nSpecial Events\nAdventure Park at the Virginia Aquarium
 - $5 Off General Admission With Promo Code VBLIFE here: http://bit.ly
 /1FhDqIF \n\n\nLIVE ENTERTAINMENT\n501 City Grill - Birdneck Road - T
 BA 9p\nAbbey Road Pub - Who's In The Corner? 9p\nBella Monte Restauran
 t & Enoteca - 1201 Laskin Rd - Charlie Wiseman on 9-foot concert g
 rand piano 7 to 10p\nBoneshakers -  TBA 8p \nCalypso Bar & Grill - 
 Atlantic Ave -  Band info not listed on their site  7p\nChicho's - 2
 9th Street - TBA  9p\nCocomo Joe's - 31st Street - Billy Joe Trio 9:3
 0p\nEagles Nest - Cody Austin Band 9p\nFroggie's Cantina By The Bay -
  Shore Drive - Lewis McGehee 6 to 9p the UFC 195 10p No Cover\nHot Tun
 a - TBA  9:30p\nKeagan's Irish Pub - Town Center -  UFC 195 no cover
  10p\nLongshots Billiards and Darts - Chesapeake - Special Events 9p\n
 Murphy's Irish Pub -  Powers & McLaughlin 10p\nRY Lounge - Oceanfron
 t - DJ & Dancing 10p\nSouth Beach Grill - J & The Band 9:30p\nTapped G
 astropub - Hilltop -  Live Music TBA 10p\nWing King - Rosemont - Blin
 d Toona 9p\nWing King - Centerville - Dahna Rowe & The Miscreants 9p
  \nWoody McGees - Holland Road - Skip Friel 9:30p\n\nFor more inform
 ation visit https://vbnightlife.com/events/click-here-for-saturday-1-2
 -16-virginia-beach-event-entertainment
DTSTART:20160102T050000Z
DTEND:20160103T045900Z
CATEGORIES:"virginia beach", "virginia beach nightlife", "virginia bea
 ch bands", "virginia beach entertainment", "events in virginia beach",
  "things to do in virginia beach", "mobile app virginia beach"
LOCATION:Virginia Beach, VA
WEBSITE:
URL:
CONTACT:
ORGANIZER:VBnightlife / VBdaylife
ATTACH;FMTTYPE="image/jpeg":http://storage.ning.com/topology/rest/1.0/
 file/get/1664297416?profile=original
ATTENDEE;ROLE=REQ-PARTICIPANT;PARTSTAT=ACCEPTED;RSVP=TRUE;CN="VBnightl
 ife.com":https://vbnightlife.com/profile/admin
END:VEVENT
END:VCALENDAR
