BEGIN:VCALENDAR
PRODID:NingEventWidget-v1
VERSION:2.0
METHOD:PUBLISH
BEGIN:VEVENT
UID:2508951:Event:23876
DTSTAMP:20260422T060858Z
SUMMARY:click here for MONDAY'S BANDS / NIGHTLIFE / ENTERTAINMENT LIST
 ING
DESCRIPTION:Abbey Road - VB *MONDAY NIGHT FOOTBALL*\nBlue Pete's - VB 
 *MONDAY NIGHT FOOTBALL*\nClutch Bar & Grill - *MONDAY NIGHT FOOTBALL*\
 nDiesel - VB *MONDAY NIGHT FOOTBALL*\nKeagan's Town Center - VB \"JON 
 HARRELL\"\nMurphy's Irish Pub - VB \"DAVE DEERING\"\nNorfolk Socpe Are
 na - N \"PRINCESS NELL NELL W/ KID KJ\" 5pm\nNorva - N \"ALL TIME LOW 
 / WE THE KINGS\" $\nPeppermint Beach Club - VB \"COBRA SKULLS, THE NER
 VE SCHEME, UNDERGROUND DISTRICT\" 8pm\nSammy's - VB *KARAOKE*\nSecrets
  - VB *MONDAY NIGHT NFL FOOTBALL*\n\nFor more information visit https:
 //vbnightlife.com/events/click-here-for-mondays-bands-6
DTSTART:20091019T040000Z
DTEND:20091020T035900Z
CATEGORIES:band, "/", dj, fundraisers
LOCATION:Virginia Beach / Norfolk
WEBSITE:
URL:
CONTACT:
ORGANIZER;CN="VBnightlife.com":https://vbnightlife.com/profile/admin
ATTACH;FMTTYPE="image/jpeg":http://storage.ning.com/topology/rest/1.0/
 file/get/1664089579?profile=original
ATTENDEE;ROLE=REQ-PARTICIPANT;PARTSTAT=ACCEPTED;RSVP=TRUE;CN="VBnightl
 ife.com":https://vbnightlife.com/profile/admin
END:VEVENT
END:VCALENDAR
