BEGIN:VCALENDAR
PRODID:NingEventWidget-v1
VERSION:2.0
METHOD:PUBLISH
BEGIN:VEVENT
UID:2508951:Event:23234
DTSTAMP:20260422T044211Z
SUMMARY:click here for MONDAY'S BANDS / NIGHTLIFE / ENTERTAINMENT LIST
 ING
DESCRIPTION:Abbey Road - VB \"MONDAY NIGHT FOOTBALL\"\nBlue Pete's - V
 B *MONDAY NIGHT FOOTBALL*\nClutch Bar & Grill - VB *NFL FOOTBALL*\nDie
 sel - VB *MONDAY NIGHT FOOTBALL*\nKeagan's Town Center - VB \"JON HARR
 ELL\"\nMurphy's Irish Pub - VB \"JESSE CHONG\"\nSammy's - VB *KARAOKE*
 \nSecrets - VB *KARAOKE*\n\nFor more information visit https://vbnight
 life.com/events/click-here-for-mondays-bands-4
DTSTART:20091005T040000Z
DTEND:20091006T035900Z
CATEGORIES:band, "/", dj, karaoke
LOCATION:Virginia Beach / Norfolk
WEBSITE:
URL:
CONTACT:
ORGANIZER;CN="VBnightlife.com":https://vbnightlife.com/profile/admin
ATTACH;FMTTYPE="image/jpeg":http://storage.ning.com/topology/rest/1.0/
 file/get/1664086288?profile=original
ATTENDEE;ROLE=REQ-PARTICIPANT;PARTSTAT=ACCEPTED;RSVP=TRUE;CN="VBnightl
 ife.com":https://vbnightlife.com/profile/admin
END:VEVENT
END:VCALENDAR
