BEGIN:VCALENDAR
PRODID:NingEventWidget-v1
VERSION:2.0
METHOD:PUBLISH
BEGIN:VEVENT
UID:2508951:Event:13885
DTSTAMP:20260420T155652Z
SUMMARY:click here for MONDAYS BAND/ EVENT LISTING
DESCRIPTION:Abbey Road - VB \"KEVIN KELLY\"\nKeagans - Town Center - V
 B \"JOHN HARRELL\" 10pm\nMurphy's Irish Pub - VB \"DAVE DEERING\nTime 
 Lounge - PATRIOTIC BIKINI CONTEST W/ DJ JOE FU\n\n31st STREET STAGE\" 
 - VB \"SNACKBAR JONES\"\n\nFor more information visit https://vbnightl
 ife.com/events/click-here-for-mondays-band-6
DTSTART:20090525T040000Z
DTEND:20090526T035900Z
CATEGORIES:band
LOCATION:Virginia beach
WEBSITE:
URL:
CONTACT:
ORGANIZER;CN="Nicole Maxino":https://vbnightlife.com/profile/NicoleMax
 ino
ATTACH;FMTTYPE="image/jpeg":http://storage.ning.com/topology/rest/1.0/
 file/get/1664075171?profile=original
ATTENDEE;ROLE=REQ-PARTICIPANT;PARTSTAT=ACCEPTED;RSVP=TRUE;CN="Nicole M
 axino":https://vbnightlife.com/profile/NicoleMaxino
END:VEVENT
END:VCALENDAR
