BEGIN:VCALENDAR
PRODID:NingEventWidget-v1
VERSION:2.0
METHOD:PUBLISH
BEGIN:VEVENT
UID:2508951:Event:13183
DTSTAMP:20260425T215433Z
SUMMARY:click here for MONDAY'S BAND / EVENTS LISTING
DESCRIPTION:Abbey Road - KEVIN KELLY\nCatch 31 - VINYL HEADLIGHTS\n\nF
 or more information visit https://vbnightlife.com/events/click-here-fo
 r-mondays-band-4
DTSTART:20090511T040000Z
DTEND:20090512T035900Z
CATEGORIES:live, music
LOCATION:Virginia Beach / Norfolk
WEBSITE:
URL:
CONTACT:
ORGANIZER;CN="Nicole Maxino":https://vbnightlife.com/profile/NicoleMax
 ino
ATTACH;FMTTYPE="image/jpeg":http://storage.ning.com/topology/rest/1.0/
 file/get/1664073371?profile=original
ATTENDEE;ROLE=REQ-PARTICIPANT;PARTSTAT=ACCEPTED;RSVP=TRUE;CN="Nicole M
 axino":https://vbnightlife.com/profile/NicoleMaxino
END:VEVENT
END:VCALENDAR
