BEGIN:VCALENDAR
PRODID:NingEventWidget-v1
VERSION:2.0
METHOD:PUBLISH
BEGIN:VEVENT
UID:2508951:Event:31954
DTSTAMP:20260421T103731Z
SUMMARY:click here for MONDAY'S BAND / EVENT / NIGHTLIFE LISTING
DESCRIPTION:Abbey Road - VB \"KARL WERNE\"\nChrysler Hall - N \"MUSIC 
 OF QUEEN - A ROCK SYMPHONY\"\nCostal Grill - VB \"DIMITAR ZAREV\" 5:30
 pm\nDocker's Restaurant & Karaoke Pub - VB *KARAOKE* 9pm\nKeagans - To
 wn Center - VB - JOHN HARRELL\nMurphy's Irish Pub - VB \"JESSE CHONG\"
 \nNorva - N \"SOUND TRIBE SECTOR 9\"\nSammy’s - VB *KARAOKE*\nSeasid
 e Raw Bar - VB - TOM ASS\nSecrets - VB *KARAOKE*\nUpper Deck - VB *SHA
 G DANCE LESSONS*\n\nFor more information visit https://vbnightlife.com
 /events/click-here-for-mondays-band-39
DTSTART:20100322T040000Z
DTEND:20100323T035900Z
CATEGORIES:band, "/", dj
LOCATION:VIRGINIA BEACH / NORFOLK
WEBSITE:
URL:
CONTACT:
ORGANIZER;CN="VBnightlife.com":https://vbnightlife.com/profile/admin
ATTACH;FMTTYPE="image/jpeg":http://storage.ning.com/topology/rest/1.0/
 file/get/1664103330?profile=original
ATTENDEE;ROLE=REQ-PARTICIPANT;PARTSTAT=ACCEPTED;RSVP=TRUE;CN="VBnightl
 ife.com":https://vbnightlife.com/profile/admin
END:VEVENT
END:VCALENDAR
