BEGIN:VCALENDAR
PRODID:NingEventWidget-v1
VERSION:2.0
METHOD:PUBLISH
BEGIN:VEVENT
UID:2508951:Event:12334
DTSTAMP:20260425T160452Z
SUMMARY:click here for MONDAY'S BAND / EVENTS LISTING
DESCRIPTION:Abbey Road - VB \"KEVIN KELLY\nCatch 31 -31st STREET STAGE
  - RICH WHISKEY AUDITION\"\nJewish Mother - VB \"MAC LETHAL\nMurphy's 
 - JESSE CHONG\nPeppermint Beach Club - MYCHILDREN MYBRIDE W/ PARKWAY D
 RIVE & STICK TO YOUR GUNS\nTime Lounge - DJ JOE FU\n\nFor more informa
 tion visit https://vbnightlife.com/events/click-here-for-mondays-band-
 3
DTSTART:20090504T040000Z
DTEND:20090505T035900Z
CATEGORIES:band, dj
LOCATION:Virginia Beach / Norfolk
WEBSITE:
URL:
CONTACT:
ORGANIZER;CN="Nicole Maxino":https://vbnightlife.com/profile/NicoleMax
 ino
ATTACH;FMTTYPE="image/jpeg":http://storage.ning.com/topology/rest/1.0/
 file/get/1664070694?profile=original
ATTENDEE;ROLE=REQ-PARTICIPANT;PARTSTAT=ACCEPTED;RSVP=TRUE;CN="Nicole M
 axino":https://vbnightlife.com/profile/NicoleMaxino
END:VEVENT
END:VCALENDAR
