BEGIN:VCALENDAR
PRODID:NingEventWidget-v1
VERSION:2.0
METHOD:PUBLISH
BEGIN:VEVENT
UID:2508951:Event:17048
DTSTAMP:20260425T160617Z
SUMMARY:click here for MONDAY'S BAND / EVENT LISTING
DESCRIPTION:Abbey Road - VB \"KEVIN KELLY\"\nChichos - VB \"MIKE GOMBA
 S\" 8pm\nHalf Shell - VB \"BENEATH THE SKY\" 7pm\nKeagans - VB Town Ce
 nter \"JOHN HARRELL\" 10pm\nTime Lounge - N - DJ Joe Fu & DJ El Capone
 \n\n\nOUTDOOR EVENTS\n7th STREET STAGE - VB \"BEN PHELPS PROJECT\"\n17
 th STREET STAGE - VB \"SOUTHERN BLEND\"\n24th STREET STAGE - VB \"THE 
 MAGIC OF KRENDL AND CO.\" 7:30pm, 8:30pm & 9:30pm\n31st STREET STAGE -
  VB \"SPIN CITY\" 6pm\nOCEAN HOUSE - VB \"JOHN BALDWIN\" solo\n\nFor m
 ore information visit https://vbnightlife.com/events/click-here-for-mo
 ndays-band-14
DTSTART:20090720T040000Z
DTEND:20090721T035900Z
CATEGORIES:band, "/", dj
LOCATION:VB / norfolk
WEBSITE:
URL:
CONTACT:
ORGANIZER;CN="VBnightlife.com":https://vbnightlife.com/profile/admin
ATTACH;FMTTYPE="image/jpeg":http://storage.ning.com/topology/rest/1.0/
 file/get/1664079559?profile=original
ATTENDEE;ROLE=REQ-PARTICIPANT;PARTSTAT=ACCEPTED;RSVP=TRUE;CN="VBnightl
 ife.com":https://vbnightlife.com/profile/admin
END:VEVENT
END:VCALENDAR
