BEGIN:VCALENDAR
PRODID:NingEventWidget-v1
VERSION:2.0
METHOD:PUBLISH
BEGIN:VEVENT
UID:2508951:Event:146760
DTSTAMP:20260423T183615Z
SUMMARY:Click here for MONDAY'S VIRGINIA BEACH ENTERTAINMENT LISTING
DESCRIPTION:ENTERTAINMENT:\nBookings can change at the last minute, so
  we recommend checking with the venue before heading out! 7th St. Stag
 e - DINO  6-10PM25th St. Stage - WRECK OF THE DICTATOR  8:30-11PM31s
 t St. Stage - BORDERLINE CRAZY  6-10PM\n\nChicho’s 29th - MIKE GOMB
 AS  7-9PM\nMurphy’s - JESSE CHONGPembroke Meandows Cinema Cafe - *L
 OCAL MUSIC MONDAYS* FEAT. ISAAC GAY + THE BREWERY + LAKE STOVALL 9PM\n
 \n\nAssociation for Research & Enlightenment - *KATIE RUSSELL FUNDRAIS
 ER FOR ANNEURISM RECOVERY*  FEAT. DEOSIL  6-9PM\nDJ’S/KARAOKE/DANC
 ES:Harry O’s – HARRY-OKE 9PM (Ages 25+)Poppa’s Pub - *KARAOKE* 9
 :30PMReef Lounge - *KARAOKE*  9PMRetro Cafe - COOLHAND LUKE  10PM  
 *10-CUP PONG NIGHT*Sammy’s – *KARAOKE*FAMILY FUN/SPECIAL EVENTS:24
 th St. Stage - KRENDL & COMPANY MAGICAL VARIETY SHOW  7:30-10:30PMVir
 ginia Aquarium - “DISCOVER THE WOODS” WILDLIFE SEARCH  10AM-4PM 
 (WEATHER PERMITTING) \n \nCLICK HERE REACH OUR VENUE'S PAGE TO FIND
  ADDRESSES AND PHONE NUMBERS OF PLACES LISTED\nCLICK HERE FOR OUR BAND
 /DJ PAGE TO FIND DESCRIPTION OF THE BANDS AND LINKS TO THEIR WEB PAGES
 \n\n\nFor more information visit https://vbnightlife.com/events/click-
 here-for-mondays-45
DTSTART:20110718T040000Z
DTEND:20110719T035900Z
CATEGORIES:"virginia beach", "virginia beach events", "virginia beach 
 bands", "virginia beach entertainment"
LOCATION:Virginia Beach
WEBSITE:
URL:
CONTACT:
ORGANIZER:VBnightlife.com / VBdaylife.com
ATTACH;FMTTYPE="image/jpeg":http://storage.ning.com/topology/rest/1.0/
 file/get/1664143487?profile=original
ATTENDEE;ROLE=REQ-PARTICIPANT;PARTSTAT=ACCEPTED;RSVP=TRUE;CN="VBnightl
 ife.com":https://vbnightlife.com/profile/admin
END:VEVENT
END:VCALENDAR
