BEGIN:VCALENDAR
PRODID:NingEventWidget-v1
VERSION:2.0
METHOD:PUBLISH
BEGIN:VEVENT
UID:2508951:Event:146675
DTSTAMP:20260423T090535Z
SUMMARY:Click here for MONDAY'S VIRGINIA BEACH ENTERTAINMENT LISTING
DESCRIPTION:\nENTERTAINMENT:Bookings can change at the last minute, so
  we recommend checking with the venue before heading out!7th St. Stage
  - JUST CUZ DUO  6-10PM31st St. Stage - THE OFFICE  6-10PMAbbey Road
  – KARL WERNE 8:30PMChicho’s 29th - LIVE LOCAL ACOUSTIC  5-9PMGre
 en Onion - *VINTAGE VINYL & VINO* FEAT. DJ JEYONE  7PMPembroke Meadow
 s Cinema Cafe - *LOCAL MUSIC MONDAYS* FEAT. CUTTING ADIPOSE + CJ ALLEN
  + SARAH MINIARD  9PM THEATRE/FUNDRAISERS/CONCERTS/SPORTS:TODAY’S 
 TIDES BASEBALL SCHEDULE FOUND ON NORFOLKNIGHTLIFE.COM DJ’S/KARAOKE/
 DANCES: Chicho’s 29th - DJ WELL DONE  9PMHarry O’s – HARRY-OKE 
 9PM (Ages 25+)Poppa’s Pub - *KARAOKE* 9:30PMReef Lounge - *KARAOKE* 
  9PMRetro Cafe - COOLHAND LUKE  10PM  *10-CUP PONG NIGHT*Sammy’s 
 – *KARAOKE*FAMILY FUN/SPECIAL EVENTS:17th St. Stage - CIRCUS IN THE 
 PARK  7:30-10:30PM24th St. Stage - KRENDL & COMPANY MAGICAL VARIETY S
 HOW  7:30-10:30PMVirginia Aquarium - “DISCOVER THE WOODS” WILDLIF
 E SEARCH  10AM-4PM  (WEATHER PERMITTING)\n \nCLICK HERE REACH OUR V
 ENUE'S PAGE TO FIND ADDRESSES AND PHONE NUMBERS OF PLACES LISTED\nCLIC
 K HERE FOR OUR BAND/DJ PAGE TO FIND DESCRIPTION OF THE BANDS AND LINKS
  TO THEIR WEB PAGES\n\n\nFor more information visit https://vbnightlif
 e.com/events/click-here-for-mondays-281
DTSTART:20110808T040000Z
DTEND:20110809T035900Z
CATEGORIES:"virginia beach", "virginia beach events", "virginia beach 
 bands", "virginia beach entertainment"
LOCATION:Virginia Beach
WEBSITE:
URL:
CONTACT:
ORGANIZER:VBnightlife.com / VBdaylife.com
ATTACH;FMTTYPE="image/jpeg":http://storage.ning.com/topology/rest/1.0/
 file/get/1664144276?profile=original
ATTENDEE;ROLE=REQ-PARTICIPANT;PARTSTAT=ACCEPTED;RSVP=TRUE;CN="VBnightl
 ife.com":https://vbnightlife.com/profile/admin
END:VEVENT
END:VCALENDAR
