BEGIN:VCALENDAR
PRODID:NingEventWidget-v1
VERSION:2.0
METHOD:PUBLISH
BEGIN:VEVENT
UID:2508951:Event:167058
DTSTAMP:20260423T222731Z
SUMMARY:Click here for MONDAY'S VIRGINIA BEACH ENTERTAINMENT LISTING
DESCRIPTION:\nENTERTAINMENT:7th St. Stage - MIKE PROFFITT  6-10PM31st
  St Stage - RIVER BOYZ  6-10PMAbbey Road – KARL WERNE 8:30PMChicho
 s 29th - LIVE LOCAL ACOUSTIC  5-9PMGreen Onion - *VINTAGE VINYL & V
 INO* FEAT. DJ JEYONE  7PMMurphy’s - JESSE CHONGPembroke Meandows Ci
 nema Cafe - *LOCAL MUSIC MONDAYS*  9PM THEATRE/FUNDRAISERS/CONCERTS/
 SPORTS:TODAY’S TIDES BASEBALL SCHEDULE FOUND ON NORFOLKNIGHTLIFE.COM
 DJ’S/KARAOKE/DANCES:Chicho’s 29th - DJ WELL DONE  9PMHarry O’s 
 – HARRY-OKE 9PM (Ages 25+)Poppa’s Pub - *KARAOKE* 9:30PMReef Loung
 e - *KARAOKE*  9PMRetro Cafe - COOLHAND LUKE  10PM  *10-CUP PONG NI
 GHT*Sammy’s – *KARAOKE*FAMILY FUN/SPECIAL EVENTS:Virginia Aquarium
  - “DISCOVER THE WOODS” WILDLIFE SEARCH  10AM-4PM  (WEATHER PERM
 ITTING)\n \nBookings can change at the last minute, so we recommend c
 hecking with the venue before heading out!CLICK HERE REACH OUR VENUE'S
  PAGE TO FIND ADDRESSES AND PHONE NUMBERS OF PLACES LISTEDCLICK HERE F
 OR OUR BAND/DJ PAGE TO FIND DESCRIPTION OF THE BANDS AND LINKS TO THEI
 R WEB PAGES\n\n\nFor more information visit https://vbnightlife.com/ev
 ents/click-here-for-monday-s-virginia-beach-entertainment-listing
DTSTART:20110905T040000Z
DTEND:20110906T035900Z
CATEGORIES:"virginia beach events", "virginia beach entertainment", "v
 irginia beach bands", "virginia beach djs", "virginia beach family fun
 ", "virginia beach fundraisers"
LOCATION:Virginia Beach
WEBSITE:
URL:
CONTACT:
ORGANIZER:VBnightlife.com / VBdaylife.com
ATTACH;FMTTYPE="image/jpeg":http://storage.ning.com/topology/rest/1.0/
 file/get/1664151769?profile=original
ATTENDEE;ROLE=REQ-PARTICIPANT;PARTSTAT=ACCEPTED;RSVP=TRUE;CN="VBnightl
 ife.com":https://vbnightlife.com/profile/admin
END:VEVENT
END:VCALENDAR
