BEGIN:VCALENDAR
PRODID:NingEventWidget-v1
VERSION:2.0
METHOD:PUBLISH
BEGIN:VEVENT
UID:2508951:Event:313784
DTSTAMP:20260422T091811Z
SUMMARY:Click here for MONDAY 9/7/15 VIRGINIA BEACH EVENTS & ENTERTAIN
 MENT LISTINGS
DESCRIPTION:Download the new FREE mobile app for Virginia Beach. Â Use
  this link to download http://onelink.to/yae3t5 or search VBnightlife 
 in the iTunes or Google Play stores today and get a complete list of e
 vents, restaurant recommendations, coupons and more!\nSpecial Events\n
 Tinto Wine & CheeseÂ - Hilltop - \"Monday Mingle\" 6Â to 8p - If you'r
 e unattached and enjoy wine this is the place to be!\nAssociation for 
 Research and Enlightenment (A.R.E.) Oceanfront Click for events calend
 arÂ \nColonial Shooting Academy:Â All Day -25% off lane rental for pub
 lic safety, military & Veterans\nMuseum of Contemporary Art (MOCA) -Â 
 Closed Mondays\nAdventure ParkÂ at the Virginia Aquarium $5 Off Genera
 l Admission With Promo Code VBLIFE here:Â http://bit.ly/1FhDqIF\nFarm 
 Bureau Live - 5 Seconds of Summer 7p\n\nLive Music\n7th St StageÂ - Mo
 ceanÂ 6p\nCalypso Bar & Grill -Atlantic Ave- Â 6p\nCocomo Joes - 31stÂ
  St- Karaoke 9p\nFroggiesÂ - Shore Dr- Happy Hour Specials (visit the 
 app for details)Â 9p\nJerry's Restaurant & Lounge - Chesapeake- OPEN M
 IC with Â 6 to 9p\nKeagans Irish Pub -Town Center- Pub Trivia 8p\nLong
 shots Billiards & DartsÂ - Chesapeake - Drag Show w/ Naomi Black & DJ 
 Mollie all night - No Cover\nMurphy's Irish PubÂ - Â Jesse Chong10p*\n
 RY Lounge - Oceanfront - Euro Night w/ DJ AMX 10p\nWing King - Rosemon
 tÂ COUPON\nWing King - CentervilleÂ - Karaoke 8pÂ COUPON\nWoody McGees
  - Holland Rd- Margarita Mondays 5p to Close with $5.50 specials\nFor 
 a detailed Happy Hour Listing visit the Happy Hour Button on our mobil
 e app!Â \n\nFor more information visit https://vbnightlife.com/events/
 click-here-for-monday-9-7-15-virginia-beach-events-entertainment-
DTSTART:20150907T040000Z
DTEND:20150908T035900Z
CATEGORIES:"virginia beach", "virginia beach nightlife", "virginia bea
 ch bands", "virginia beach entertainment", "events in virginia beach",
  "things to do in virginia beach"
LOCATION:Virginia Beach, VA
WEBSITE:
URL:
CONTACT:
ORGANIZER;CN="VBnightlife.com":https://vbnightlife.com/profile/admin
ATTACH;FMTTYPE="image/jpeg":http://storage.ning.com/topology/rest/1.0/
 file/get/1664285881?profile=original
ATTENDEE;ROLE=REQ-PARTICIPANT;PARTSTAT=ACCEPTED;RSVP=TRUE;CN="VBnightl
 ife.com":https://vbnightlife.com/profile/admin
END:VEVENT
END:VCALENDAR
