BEGIN:VCALENDAR
PRODID:NingEventWidget-v1
VERSION:2.0
METHOD:PUBLISH
BEGIN:VEVENT
UID:2508951:Event:257185
DTSTAMP:20260422T061145Z
SUMMARY:Click here for MONDAY 9/30/13 VIRGINIA BEACH ENTERTAINMENT LIS
 TINGS
DESCRIPTION:LIVE ENTERTAINMENT/ DJ’S/ KARAOKE:\nBahama Breeze- Brian
  Shultz 5pm-11pm\nIl Giardino's- Reginald Blackwell 6:30pm-10:30pm\nMu
 rphys- Jesse Chong 10pm\nRock Fish -SIN Night & WRV Koozie Night\nSan
 dbridge Island Grill- Open Mic 9pm\n \nSPECIAL EVENTS/CONCERTS/ FESTI
 VALS:\nInternational Sandsculpting Championship-4th-10th Street\nThe F
 irst Annual ValueOptions Stampout Stigma Golf Tournament\n \nCLICK HE
 RE FOR THE BEST DEALS & COUPONS IN VIRGINIA BEACH FEATURING EXCLUSIVE
  BARGAINS\n \nCLICK HERE FOR HAPPY HOUR DEALS FEATURING SEVERAL LOCAL
  RESTAURANTS DAILY SPECIALS\n \nCLICK HERE REACH OUR VENUE'S PAGE TO
  FIND ADDRESSES AND PHONE NUMBERS OF PLACES LISTED\n \nCLICK HERE FOR
  OUR BAND/DJ PAGE TO FIND DESCRIPTION OF THE BANDS AND LINKS TO THEIR
  WEB PAGES\n\nFor more information visit https://vbnightlife.com/event
 s/click-here-for-monday-9-30-13-virginia-beach-entertainment-listin
DTSTART:20130930T040000Z
DTEND:20131001T035900Z
CATEGORIES:"virginia beach", "virginia beach nightlife", "virginia bea
 ch bands", "virginia beach entertainment"
LOCATION:Virginia Beach, VA
WEBSITE:
URL:
CONTACT:
ORGANIZER;CN="VBnightlife.com":https://vbnightlife.com/profile/admin
ATTACH;FMTTYPE="image/jpeg":http://storage.ning.com/topology/rest/1.0/
 file/get/1664204829?profile=original
ATTENDEE;ROLE=REQ-PARTICIPANT;PARTSTAT=ACCEPTED;RSVP=TRUE;CN="VBnightl
 ife.com":https://vbnightlife.com/profile/admin
END:VEVENT
END:VCALENDAR
