BEGIN:VCALENDAR
PRODID:NingEventWidget-v1
VERSION:2.0
METHOD:PUBLISH
BEGIN:VEVENT
UID:2508951:Event:227802
DTSTAMP:20260421T194125Z
SUMMARY:Click here for MONDAY 8/19/13 VIRGINIA BEACH ENTERTAINMENT LIS
 TINGS
DESCRIPTION:LIVE ENTERTAINMENT/ DJ’S/ KARAOKE:\n7th Street Stage- DJ
  Cat CanRock 6pm-10pm\n31st Street Stage- 10 Spot 6pm-10pm\nAbbey Rd.-
  Swell Luck \nBahama Breeze- Brian Shultz 5pm-11pm\nCactus Jacks –
 SIN Night ft. DJ 9:30pm\nIl Giardino's- Reginald Blackwell 6:30pm-10:
 30pm\nMurphys- Jesse Chong 10pm\nRock Fish -SIN Night & WRV Koozie Ni
 ght ft. Jackson LeBeau 7pm\nSandbridge Island Grill- Open Mic 9pm\n \
 nSPECIAL EVENTS/CONCERTS/ FESTIVALS:\nCoastal Edge Surfing Championshi
 p - Oceanfront\nCircus in the Park- 17th Street Park 7:30pm-10pm\nKren
 dl & Company Magical Variety Show- 24th Street Park.  Showtimes are 7
 :30,8:30 and 9:30. All shows are different and feature the largest Mag
 ic Company in the Commonwealth of Virginia.\nThe Wreck of the Dictator
 - 25th Street Park 8:30pm-10:30pm\nThe Witch of Pungo- 27th Street Par
 k 8:30pm-10:30pm\nCirquesa Dreamquest- Rudee Inlet Loop 7:30pm\n \nCL
 ICK HERE FOR HAPPY HOUR DEALS FEATURING SEVERAL LOCAL RESTAURANTS DAIL
 Y SPECIALS\n \nCLICK HERE REACH OUR VENUE'S PAGE TO FIND ADDRESSES A
 ND PHONE NUMBERS OF PLACES LISTED\n \nCLICK HERE FOR OUR BAND/DJ PAGE
  TO FIND DESCRIPTION OF THE BANDS AND LINKS TO THEIR WEB PAGES\n\nFor
  more information visit https://vbnightlife.com/events/click-here-for-
 monday-8-19-13-virginia-beach-entertainment-listin
DTSTART:20130819T040000Z
DTEND:20130820T035900Z
CATEGORIES:"virginia beach", "virginia beach nightlife", "virginia bea
 ch bands", "virginia beach entertainment"
LOCATION:Virginia Beach, VA
WEBSITE:
URL:
CONTACT:
ORGANIZER;CN="VBnightlife.com":https://vbnightlife.com/profile/admin
ATTACH;FMTTYPE="image/jpeg":http://storage.ning.com/topology/rest/1.0/
 file/get/1664195189?profile=original
ATTENDEE;ROLE=REQ-PARTICIPANT;PARTSTAT=ACCEPTED;RSVP=TRUE;CN="VBnightl
 ife.com":https://vbnightlife.com/profile/admin
END:VEVENT
END:VCALENDAR
