BEGIN:VCALENDAR
PRODID:NingEventWidget-v1
VERSION:2.0
METHOD:PUBLISH
BEGIN:VEVENT
UID:2508951:Event:199507
DTSTAMP:20260422T224532Z
SUMMARY:Click here for MONDAY 7/9/12 VIRGINIA BEACH ENTERTAINMENT LIST
 INGS
DESCRIPTION:LIVE ENTERTAINMENT\n24th Street Park- Krendl & Company Mag
 ical Variety Show, 7:30PM 8:30PM, 9:30PM,\n25th Street- Wreck of the D
 ictator, 8:30,9:15, 10PM\n31st Street Stage- Bigger Dream, 6-10PM\nBo
 neshakers- Kids Eat Free (Every Monday)\nCalypso- Rockstar Parking, 6-
 10PM\nCinema Cafe- Music Mondays\nCentral 11/Venue 112- Monday Night T
 ease College Night\nHavanah Nights- Woody Beckner Duo- 8-11PM\nIL Giar
 dino- Reginald Blackwell, Frank Sinatra Impersonator\nJohnny Mananas-
  Victoria Sachar, 1-4PM\nLighthouse- Dave Johnson, 7-11PM\nMurphys- Je
 sse Chong, 10PM\nSecrets- Acoustic Bands Featuring Dewrellics (Every M
 onday)\n \nFAMILY FUN/SPECIAL EVENTS:\nVirginia MOCA- Andy Warhol\nAJ
  Gators- Poker Night/Texas Hold 'em\nBaker Street- Poker Night/Texas 
 Hold 'em\nGeared Up- TEXAS HOLD'EM POKER TOURNAMENT-7-11PM\n \nDJ’S
 /KARAOKE/DANCES:\nRetro Cafe- Karaoke\nPortside Inn- Open Mic w/ West 
 & Daniels\nWannaB's- KARAOKE 7 PM - 2 AM  Monday - Saturday (21 and O
 lder)\nCLICK HERE FOR HAPPY HOUR DEALS\nCLICK HERE REACH OUR VENUE'S P
 AGE TO FIND ADDRESSES AND PHONE NUMBERS OF PLACES LISTED\nCLICK HERE 
 FOR OUR BAND/DJ PAGE TO FIND DESCRIPTION OF THE BANDS AND LINKS TO TH
 EIR WEB PAGES\n\nFor more information visit https://vbnightlife.com/ev
 ents/click-here-for-monday-7-9-12-virginia-beach-entertainment-listing
DTSTART:20120709T040000Z
DTEND:20120710T035900Z
CATEGORIES:"virginia beach entertainment", "virginia beach nightlife",
  "virginia beach bands"
LOCATION:Virginia Beach
WEBSITE:
URL:
CONTACT:
ORGANIZER;CN="VBnightlife.com":https://vbnightlife.com/profile/admin
ATTACH;FMTTYPE="image/jpeg":http://storage.ning.com/topology/rest/1.0/
 file/get/1664172949?profile=original
ATTENDEE;ROLE=REQ-PARTICIPANT;PARTSTAT=ACCEPTED;RSVP=TRUE;CN="VBnightl
 ife.com":https://vbnightlife.com/profile/admin
END:VEVENT
END:VCALENDAR
