BEGIN:VCALENDAR
PRODID:NingEventWidget-v1
VERSION:2.0
METHOD:PUBLISH
BEGIN:VEVENT
UID:2508951:Event:290422
DTSTAMP:20260425T072947Z
SUMMARY:Click here for MONDAY 7/28/14 VIRGINIA BEACH ENTERTAINMENT LIS
 TINGS
DESCRIPTION:Download the new FREE mobile app for Virginia Beach with t
 his link: http://onelink.to/yae3t5 or  Search VBnightlife in the i
 Tunes or Google Play stores today and get a complete list of events, r
 estaurant recommendations, coupons and more!\n \nSPECIAL EVENT - Fund
 raiser at Braise. Details: http://vbnightlife.com/events/monday-funda
 y-at-braise-to-benefit-seton-youth-shelters\n\nLIVE ENTERTAINMENT \nC
 alypso - 11th St - Andrea Paradisio 6pm   \nChicho's - Mike Gombas 7
 pm\nGrumpy's - Blue Lords  9pm\nJerry's Restaurant & Lounge - Chesape
 ake * OPEN MIC /w Scotty Slay 7pm\" (get your 50% off voucher here:www
 .vbhotdeals.com)\nLighthouse - Dave Johnson 8:30pm\nMurphy's Irish Pub
  - Jesse Chong 10pm\nParlay's - B&E 6 to 8pm\n\nOUTDOOR EVENTS / Board
 walk\n7th St. Stage (6pm–10:00pm) Major & The Monbacks\n13th St. Sta
 ge (7pm, 8pm,9pm) Virginia the Mother of Presidents\n17th St. Park (7:
 30pm, 8:30pm, 9:30pm) Circus in the Park 24th St. Park (7:30pm, 8:30p
 m, 9:30pm) Krendl’s Magic Variety Show\n25th St. Park (8:45pm, 9:30p
 m)Valor: the Story of the u.S. Navy Seals\nBoardwalk at 27th (8:30pm,9
 :15pm,10:00pm) The Witch of Pungo\n31st St. Stage (6pm–10:00pm)  Ho
 tcakes\n34th St. Stage (6pm–10:00pm) Lewis McGehee\n\nSpecial Offers
 :\nColonial Shooting Academy:  All Day - 25% off lane rental for publ
 ic safety, military & Veterans\n\nFor a 13 Day Forcast of live music 
 in Coastal Virginia / Hampton Roads, visit www.meona.net  \n\nCLICK
  HERE FOR THE BEST DEALS & COUPONS IN VIRGINIA BEACH FEATURING EXCLUS
 IVE BARGAINS.\n \nCLICK HERE FOR HAPPY HOUR DEALS FEATURING SEVERAL 
 LOCAL RESTAURANTS DAILY SPECIALS\n \nCLICK HERE REACH OUR VENUE'S PAG
 E TO FIND ADDRESSES AND PHONE NUMBERS OF PLACES LISTED\n \nCLICK HER
 E FOR OUR BAND/DJ PAGE TO FIND DESCRIPTION OF THE BANDS AND LINKS TO 
 THEIR WEB PAGES\n \n\n\nFor more information visit https://vbnightlif
 e.com/events/click-here-for-monday-7-21-14-virginia-beach-entertainmen
 t
DTSTART:20140728T040000Z
DTEND:20140729T035900Z
CATEGORIES:"virginia beach", "virginia beach nightlife", "virginia bea
 ch bands", "virginia beach entertainment", "virginia beach coupons"
LOCATION:Virginia Beach, VA
WEBSITE:
URL:
CONTACT:
ORGANIZER;CN="VBnightlife.com":https://vbnightlife.com/profile/admin
ATTACH;FMTTYPE="image/jpeg":http://storage.ning.com/topology/rest/1.0/
 file/get/1664238092?profile=original
ATTENDEE;ROLE=REQ-PARTICIPANT;PARTSTAT=ACCEPTED;RSVP=TRUE;CN="VBnightl
 ife.com":https://vbnightlife.com/profile/admin
END:VEVENT
END:VCALENDAR
