BEGIN:VCALENDAR
PRODID:NingEventWidget-v1
VERSION:2.0
METHOD:PUBLISH
BEGIN:VEVENT
UID:2508951:Event:199794
DTSTAMP:20260419T234058Z
SUMMARY:Click here for MONDAY 7/16/12 VIRGINIA BEACH ENTERTAINMENT LIS
 TINGS
DESCRIPTION:LIVE ENTERTAINMENT\n17th Street Park- Circus in the Park, 
 7:30PM, 8:30PM, 9:30PM\n24th Street Park- Krendl & Company Magical Var
 iety Show, 7:30PM 8:30PM, 9:30PM\n25th Street- Wreck of the Dictator, 
 8:30PM,9:15PM,10PM\n31st Street Stage- Plastic Eddie, 6-10PM\nBoneshak
 ers- Kids Eat Free (Every Monday)\nCalypso- Rockstar Parking, 6-10PM\n
 Cinema Cafe- Music Mondays\nCentral 11/Venue 112- Monday Night Tease C
 ollege Night\nHavanah Nights- Woody Beckner Duo- 8-11PM\nIL Giardino-Ā
  Reginald Blackwell, Frank Sinatra Impersonator\nLighthouse- Dave John
 son, 7-11PM\nMurphys- Jesse Chong, 10PM\nSecrets- Acoustic Bands Featu
 ring Dewrellics (Every Monday)\nĀ \nFAMILY FUN/SPECIAL EVENTS:\nVirgin
 ia MOCA- Andy Warhol\nAJ Gators- Poker Night/Texas Hold 'em\nBaker Str
 eet-Ā Poker Night/Texas Hold 'em\nGeared Up- TEXAS HOLD'EM POKER TOURN
 AMENT-7-11PM\nĀ \nDJāS/KARAOKE/DANCES:\nPortside Inn- Open Mic w/ We
 st & Daniels\nWannaB's- KARAOKE 7 PM - 2 AMĀ  Monday - Saturday (21 an
 d Older)\nCLICK HERE FOR HAPPY HOUR DEALS\nCLICK HERE REACH OUR VENUE'
 S PAGEĀ TO FIND ADDRESSES AND PHONE NUMBERS OF PLACES LISTED\nCLICK HE
 RE FOR OUR BAND/DJ PAGEĀ TO FIND DESCRIPTION OF THE BANDS AND LINKS TO
  THEIR WEB PAGES\n\nFor more information visit https://vbnightlife.com
 /events/click-here-for-monday-7-16-12-virginia-beach-entertainment-lis
 tin
DTSTART:20120716T040000Z
DTEND:20120717T035900Z
CATEGORIES:"virginia beach entertainment", "virginia beach nightlife",
  "virginia beach bands"
LOCATION:Virginia Beach
WEBSITE:
URL:
CONTACT:
ORGANIZER:VBnightlife.com (Dionna Campanella)
ATTACH;FMTTYPE="image/jpeg":http://storage.ning.com/topology/rest/1.0/
 file/get/1664171499?profile=original
ATTENDEE;ROLE=REQ-PARTICIPANT;PARTSTAT=ACCEPTED;RSVP=TRUE;CN="VBnightl
 ife.com":https://vbnightlife.com/profile/admin
END:VEVENT
END:VCALENDAR
