BEGIN:VCALENDAR
PRODID:NingEventWidget-v1
VERSION:2.0
METHOD:PUBLISH
BEGIN:VEVENT
UID:2508951:Event:286993
DTSTAMP:20260423T151735Z
SUMMARY:Click here for MONDAY 6/2/14 VIRGINIA BEACH ENTERTAINMENT LIST
 INGS
DESCRIPTION:LIVE ENTERTAINMENT/ DJâ€™S/ KARAOKE:\n\n24th Street Stage 
 - 20:20 Band 8pm\nMurphy's - Jesse Chong 10pm\n\nSPECIAL EVENTS/CONCER
 TS/ FESTIVALS:Â Mount Trashmore Carnival\n\nClick Here for VBhotdealsÂ
  featuring deals of 50 to 90% off your favorites restaurants, events a
 nd more\n\nClick Here for VBhotcouponsÂ featuring FREE click and print
  coupons\nÂ \nCLICK HERE FOR HAPPY HOUR DEALS FEATURING SEVERAL LOCAL 
 RESTAURANTS DAILY SPECIALS\nÂ \nCLICK HERE REACH OUR VENUE'S PAGEÂ TO 
 FIND ADDRESSES AND PHONE NUMBERS OF PLACES LISTED\nÂ \nCLICK HERE FOR 
 OUR BAND/DJ PAGEÂ TO FIND DESCRIPTION OF THE BANDS AND LINKS TO THEIR 
 WEB PAGES\n\nFor more information visit https://vbnightlife.com/events
 /click-here-for-monday-6-2-14-virginia-beach-entertainment-listing
DTSTART:20140602T040000Z
DTEND:20140603T035900Z
CATEGORIES:"virginia beach", "virginia beach nightlife", "virginia bea
 ch bands"
LOCATION:Virginia Beach, VA
WEBSITE:
URL:
CONTACT:
ORGANIZER;CN="VBnightlife.com":https://vbnightlife.com/profile/admin
ATTACH;FMTTYPE="image/jpeg":http://storage.ning.com/topology/rest/1.0/
 file/get/1664192590?profile=original
ATTENDEE;ROLE=REQ-PARTICIPANT;PARTSTAT=ACCEPTED;RSVP=TRUE;CN="VBnightl
 ife.com":https://vbnightlife.com/profile/admin
END:VEVENT
END:VCALENDAR
