BEGIN:VCALENDAR
PRODID:NingEventWidget-v1
VERSION:2.0
METHOD:PUBLISH
BEGIN:VEVENT
UID:2508951:Event:195490
DTSTAMP:20260423T074339Z
SUMMARY:Click here for MONDAY 6/11/12 VIRGINIA BEACH ENTERTAINMENT LIS
 TINGS
DESCRIPTION:LIVE ENTERTAINMENT\n24th Street Park- Vedette\nBoneshakers
 - Kids Eat Free (Every Monday)\nCalypso- Rockstar Parking, 6-10PM\nCin
 ema Cafe- Music Mondays\nCentral 11/Venue 112- Monday Night Tease Coll
 ege Night\nHavanah Nights- Woody Beckner Duo- 8-11PM\nIL Giardino- Re
 ginald Blackwell, Frank Sinatra Impersonator\nMurphys- Jesse Chong, 10
 PM\nSecrets- Acoustic Bands Featuring Dewrellics (Every Monday)\n\nFAM
 ILY FUN/SPECIAL EVENTS:\nOpSail 2012\nCarnival at Mt. Trashmore\nVirgi
 nia MOCA- Andy Warhol\nAJ Gators- Poker Night/Texas Hold 'em\nBaker St
 reet- Poker Night/Texas Hold 'em\nGeared Up- TEXAS HOLD'EM POKER TOUR
 NAMENT-7-11PM\n\nDJ’S/KARAOKE/DANCES:\nRetro Cafe- Karaoke\nPortside
  Inn- Open Mic w/ West & Daniels\nJewish Mother- MOMS KARAOKE 8pm\nWan
 naB's- KARAOKE 7 PM - 2 AM  Monday - Saturday (21 and Older)\nCLICK H
 ERE FOR HAPPY HOUR DEALS\nCLICK HERE REACH OUR VENUE'S PAGE TO FIND A
 DDRESSES AND PHONE NUMBERS OF PLACES LISTED\nCLICK HERE FOR OUR BAND/D
 J PAGE TO FIND DESCRIPTION OF THE BANDS AND LINKS TO THEIR WEB PAGES\
 nBookings can change at the last minute, so we recommend checking with
  the venue before heading out!\n\nFor more information visit https://v
 bnightlife.com/events/click-here-for-monday-6-11-12-virginia-beach-ent
 ertainment-listin
DTSTART:20120611T040000Z
DTEND:20120612T035900Z
CATEGORIES:"virginia beach entertainment", "virginia beach bands", "vi
 rginia beach nightlife"
LOCATION:Virginia Beach
WEBSITE:
URL:
CONTACT:
ORGANIZER:VBnightlife.com (Dionna Campanella)
ATTACH;FMTTYPE="image/jpeg":http://storage.ning.com/topology/rest/1.0/
 file/get/1664169525?profile=original
ATTENDEE;ROLE=REQ-PARTICIPANT;PARTSTAT=ACCEPTED;RSVP=TRUE;CN="VBnightl
 ife.com":https://vbnightlife.com/profile/admin
END:VEVENT
END:VCALENDAR
