BEGIN:VCALENDAR
PRODID:NingEventWidget-v1
VERSION:2.0
METHOD:PUBLISH
BEGIN:VEVENT
UID:2508951:Event:334296
DTSTAMP:20260422T150849Z
SUMMARY:Click here for MONDAY 3/7/16 VIRGINIA BEACH EVENTS & ENTERTAIN
 MENT LISTINGS
DESCRIPTION:\nDownload the new FREE mobile app for Virginia Beach.  U
 se this link to download http://onelink.to/yae3t5 or search VBnightlif
 e in the iTunes or Google Play stores today and get a complete list of
  events, restaurant recommendations, coupons and more!\n\nSpecial Even
 ts\nTinto Wine & Cheese - Hilltop - \"Mix & Mingle\" Wine Tasting 6
  to 8p - Network & Meet New Friends\nColonial Shooting Academy: All 
 Day -25% off lane rental for public safety, military & Veterans\nMuseu
 m of Contemporary Art (MOCA) - Closed Mondays\nSandler Center - Three
  Little Birds 10a & 12p\n\nLive Music & Events\nBella Monte Restaurant
  & Enoteca - 1201 Laskin Rd - Happy Hour at the bar 4 to 6 daily\nE
 agles Nest - Charlie Austin Farewell 7p\nFroggies - Shore Dr- Happy 
 Hour Specials (visit the app for details) 9p\nJerry's Restaurant & Lo
 unge - Chesapeake- OPEN MIC with Joey Wood 6 to 9p\nKeagans Irish Pub 
 -Town Center- Pub Trivia 8p\nLongshots Billiards & Darts - Chesapeake
  - Free Drag Show & DJ\nMurphy's Irish Pub -  10p\nRY Lounge - Oceanf
 ront - Euro Night w/ DJ AMX 10p\nWing King - Rosemont -  Martini Mond
 ays\nWing King - Centerville - Half price wings 5 to 9 (dine-in)\nWoo
 dy McGees - Holland Rd- Margarita Mondays 5p to Close with $5.50 speci
 als\n\nFor a detailed Happy Hour Listing visit the Happy Hour Button o
 n our mobile app! \n\nFor more information visit https://vbnightlife.
 com/events/click-here-for-monday-3-7-16-virginia-beach-events-entertai
 nment-
DTSTART:20160307T050000Z
DTEND:20160308T045900Z
CATEGORIES:"virginia beach", "virginia beach nightlife", "virginia bea
 ch bands", "virginia beach entertainment", "events in virginia beach",
  "things to do in virginia beach"
LOCATION:Virginia Beach, VA
WEBSITE:
URL:
CONTACT:
ORGANIZER:VBnightlife.com / vbdaylife
ATTACH;FMTTYPE="image/jpeg":http://storage.ning.com/topology/rest/1.0/
 file/get/1664302848?profile=original
ATTENDEE;ROLE=REQ-PARTICIPANT;PARTSTAT=ACCEPTED;RSVP=TRUE;CN="VBnightl
 ife.com":https://vbnightlife.com/profile/admin
END:VEVENT
END:VCALENDAR
