BEGIN:VCALENDAR
PRODID:NingEventWidget-v1
VERSION:2.0
METHOD:PUBLISH
BEGIN:VEVENT
UID:2508951:Event:277936
DTSTAMP:20260422T103541Z
SUMMARY:Click here for MONDAY 3/3/13 VIRGINIA BEACH ENTERTAINMENT LIST
 INGS
DESCRIPTION:\nWe have compiled this list of events for your convenienc
 e\nFor Locals, By Locals\n If you know of an event, fundraiser, band o
 r establishment that is not listed here, we want to know!   Click her
 e to give us your feedback and suggestions: http://fs30.formsite.com/v
 bnightlife/form2/index.html\n \nLIVE ENTERTAINMENT/ DJ’S/ KARAOKE:\
 nMurphys- Jesse Chong 10pm\nCP Shuckers- Karaoke 9pm\nWanna B’s Kara
 oke Club- Karaoke 7pm\nSPECIAL EVENTS/CONCERTS/ FESTIVALS:\n \n \nPl
 ease note that bookings can change at the last minute.  If times are
  not available, we recommend checking with the venue before heading o
 ut! \n \nCLICK HERE FOR THE BEST DEALS & COUPONS IN VIRGINIA BEACH 
 FEATURING EXCLUSIVE BARGAINS\n \nCLICK HERE FOR HAPPY HOUR DEALS FEAT
 URING SEVERAL LOCAL RESTAURANTS DAILY SPECIALS\n \nCLICK HERE REACH O
 UR VENUE'S PAGE TO FIND ADDRESSES AND PHONE NUMBERS OF PLACES LISTED\
 n \nCLICK HERE FOR OUR BAND/DJ PAGE TO FIND DESCRIPTION OF THE BANDS
  AND LINKS TO THEIR WEB PAGES \n\nFor more information visit https://
 vbnightlife.com/events/click-here-for-monday-3-3-13-virginia-beach-ent
 ertainment
DTSTART:20140303T050000Z
DTEND:20140304T045900Z
CATEGORIES:"virginia beach", "virginia beach nightlife", "virginia bea
 ch bands"
LOCATION:Virginia Beach, VA
WEBSITE:
URL:
CONTACT:
ORGANIZER;CN="VBnightlife.com":https://vbnightlife.com/profile/admin
ATTACH;FMTTYPE="image/jpeg":http://storage.ning.com/topology/rest/1.0/
 file/get/1664185161?profile=original
ATTENDEE;ROLE=REQ-PARTICIPANT;PARTSTAT=ACCEPTED;RSVP=TRUE;CN="VBnightl
 ife.com":https://vbnightlife.com/profile/admin
END:VEVENT
END:VCALENDAR
