BEGIN:VCALENDAR
PRODID:NingEventWidget-v1
VERSION:2.0
METHOD:PUBLISH
BEGIN:VEVENT
UID:2508951:Event:189853
DTSTAMP:20260423T083059Z
SUMMARY:Click here for MONDAY 2/27/12 VIRGINIA BEACH ENTERTAINMENT LIS
 TINGS
DESCRIPTION:ENTERTAINMENT\nBaker Street- TEXAS HOLD'EM-7PM\nCinema Caf
 e- Music Mondays\nCentral 11/Venue 112- Monday Night Tease College Nig
 ht\nFunny Bone Comedy Club - Clash of the Comics- Mar. 13th\nGeared Up
 - TEXAS HOLD'EM POKER TOURNAMENT-7-11PM\nHavanah Nights- Chris Brydge 
 Duo- 8-11PM\nIL Giardino- Reginald Blackwell, Frank Sinatra Impersonat
 or\nMurphys- Jesse Chong, 10PM\nShakas- Power Hour, 8-9PM\n\nDJâ€™S/KA
 RAOKE/DANCES:\nRetro Cafe- Karaoke\nChichoâ€™s 29th - *KARAOKE\nPoppaâ
 €™s Pub - *KARAOKE* 9:30PM\nPortside Inn- Open Mic w/ West & Daniels\n
 Jewish Mother- MOMS KARAOKE 8pm\nWannaB's- KARAOKE 7 PM - 2 AMÂ  Monda
 y - Saturday (21 and Older)\n\nCLICK HERE FOR HAPPY HOUR DEALS\nCLICK 
 HERE REACH OUR VENUE'S PAGEÂ TO FIND ADDRESSES AND PHONE NUMBERS OF PL
 ACES LISTED\nCLICK HERE FOR OUR BAND/DJ PAGEÂ TO FIND DESCRIPTION OF T
 HE BANDS AND LINKS TO THEIR WEB PAGES\nBookings can change at the last
  minute, so we recommend checking with the venue before heading out!\n
 \nFor more information visit https://vbnightlife.com/events/click-here
 -for-monday-2-27-12-virginia-beach-entertainment-listin
DTSTART:20120227T050000Z
DTEND:20120228T045900Z
CATEGORIES:"virginia beach entertainment", "virginia beach bands", "vi
 rginia beach nightlife"
LOCATION:Virginia Beach
WEBSITE:
URL:
CONTACT:
ORGANIZER;CN="VBnightlife.com":https://vbnightlife.com/profile/admin
ATTACH;FMTTYPE="image/jpeg":http://storage.ning.com/topology/rest/1.0/
 file/get/1664163854?profile=original
ATTENDEE;ROLE=REQ-PARTICIPANT;PARTSTAT=ACCEPTED;RSVP=TRUE;CN="VBnightl
 ife.com":https://vbnightlife.com/profile/admin
END:VEVENT
END:VCALENDAR
