BEGIN:VCALENDAR
PRODID:NingEventWidget-v1
VERSION:2.0
METHOD:PUBLISH
BEGIN:VEVENT
UID:2508951:Event:188185
DTSTAMP:20260423T083059Z
SUMMARY:Click here for MONDAY 2/20/12 VIRGINIA BEACH ENTERTAINMENT LIS
 TINGS
DESCRIPTION:ENTERTAINMENT\nBaker Street- TEXAS HOLD'EM-7PM\nCinema Caf
 e- Music Mondays - THE ELEVENTH HOUR - Sam's the Hero - Cole Deardorf
 f\n\nCentral 11/Venue 112- Monday Night Tease College Night\nFunny Bon
 e Comedy Club - Clash of the Comics- Mar. 13th\nGeared Up- TEXAS HOLD'
 EM POKER TOURNAMENT-7-11PM\nHavanah Nights- Woody Beckner Duo- 8-11PM\
 nIL Giardino- Reginald Blackwell, Frank Sinatra Impersonator\nMurphys-
  Jesse Chong, 10PM\nShakas- Power Hour, 8-9PM\n\nDJ’S/KARAOKE/DANCES
 :\nRetro Cafe- Karaoke\nChicho’s 29th - *KARAOKE\nPoppa’s Pub - *K
 ARAOKE* 9:30PM\nPortside Inn- Open Mic w/ West & Daniels\nJewish Mothe
 r- MOMS KARAOKE 8pm\nWannaB's- KARAOKE 7 PM - 2 AM  Monday - Saturday
  (21 and Older)\n\nCLICK HERE FOR HAPPY HOUR DEALS\nCLICK HERE REACH O
 UR VENUE'S PAGE TO FIND ADDRESSES AND PHONE NUMBERS OF PLACES LISTED\n
 CLICK HERE FOR OUR BAND/DJ PAGE TO FIND DESCRIPTION OF THE BANDS AND L
 INKS TO THEIR WEB PAGES\nBookings can change at the last minute, so we
  recommend checking with the venue before heading out!\n\nFor more inf
 ormation visit https://vbnightlife.com/events/click-here-for-monday-2-
 20-12-virginia-beach-entertainment-listin
DTSTART:20120220T050000Z
DTEND:20120221T045900Z
CATEGORIES:"virgina beach entertainment", "virginia beach nightlife", 
 "virginia beach bands"
LOCATION:Virginia Beach
WEBSITE:
URL:
CONTACT:
ORGANIZER;CN="VBnightlife.com":https://vbnightlife.com/profile/admin
ATTACH;FMTTYPE="image/jpeg":http://storage.ning.com/topology/rest/1.0/
 file/get/1664160222?profile=original
ATTENDEE;ROLE=REQ-PARTICIPANT;PARTSTAT=ACCEPTED;RSVP=TRUE;CN="VBnightl
 ife.com":https://vbnightlife.com/profile/admin
END:VEVENT
END:VCALENDAR
