BEGIN:VCALENDAR
PRODID:NingEventWidget-v1
VERSION:2.0
METHOD:PUBLISH
BEGIN:VEVENT
UID:2508951:Event:210826
DTSTAMP:20260420T103614Z
SUMMARY:Click here for MONDAY 2/18/13 VIRGINIA BEACH ENTERTAINMENT LIS
 TINGS
DESCRIPTION:LIVE ENTERTAINMENT/ DJ’S/ KARAOKE:\nIl Giardino's -  Re
 ginald Blackwell\nMurphys- Jesse Chong 10pm\n \nSPECIAL EVENTS/CONCER
 TS/ FESTIVALS:\nTBA\n \nCLICK HERE FOR HAPPY HOUR DEALS FEATURING SEV
 ERAL LOCAL RESTAURANTS DAILY SPECIALS\n \nCLICK HERE REACH OUR VENUE'
 S PAGE TO FIND ADDRESSES AND PHONE NUMBERS OF PLACES LISTED\n \nCLIC
 K HERE FOR OUR BAND/DJ PAGE TO FIND DESCRIPTION OF THE BANDS AND LINK
 S TO THEIR WEB PAGES\n\nFor more information visit https://vbnightlife
 .com/events/click-here-for-monday-2-18-13-virginia-beach-entertainment
 -listin
DTSTART:20130218T050000Z
DTEND:20130219T045900Z
CATEGORIES:"virginia beach", "virginia beach nightlife", "virginia bea
 ch bands"
LOCATION:Virginia Beach, VA
WEBSITE:
URL:
CONTACT:
ORGANIZER;CN="VBnightlife.com":https://vbnightlife.com/profile/admin
ATTACH;FMTTYPE="image/jpeg":http://storage.ning.com/topology/rest/1.0/
 file/get/1664184921?profile=original
ATTENDEE;ROLE=REQ-PARTICIPANT;PARTSTAT=ACCEPTED;RSVP=TRUE;CN="VBnightl
 ife.com":https://vbnightlife.com/profile/admin
END:VEVENT
END:VCALENDAR
