BEGIN:VCALENDAR
PRODID:NingEventWidget-v1
VERSION:2.0
METHOD:PUBLISH
BEGIN:VEVENT
UID:2508951:Event:188169
DTSTAMP:20260422T103710Z
SUMMARY:Click here for MONDAY 2/13/12 VIRGINIA BEACH ENTERTAINMENT LIS
 TINGS
DESCRIPTION:ENTERTAINMENT\nBaker Street- TEXAS HOLD'EM-7PM\nCalypso- F
 ootball Specials w/ Sunday Ticket, 12PM\nCentral 11/Venue 112- Monday 
 Night Tease College Night\nCinema Cafe- Music Mondays\nGeared Up- TEXA
 S HOLD'EM POKER TOURNAMENT-7-11PM\nHavanah Nights- Live Entertainment\
 nIL Giardino- Reginald Blackwell, Frank Sinatra Impersonator\nMurphys-
  Jesse Chong, 10PM\nMaragrita Grill- DJ Raw Base\nPortside Inn- Open m
 ic w/ Dahna Rowe\nShakas- Power Hour, 8-9PM\n\nDJ’S/KARAOKE/DANCES:\
 nRetro Cafe- Karaoke\nChicho’s 29th - *KARAOKE\nPoppa’s Pub - *KAR
 AOKE* 9:30PM\nPortside Inn- Open Mic w/ West & Daniels\nJewish Mother-
  MOMS KARAOKE 8pm\nWannaB's- KARAOKE 7 PM - 2 AM  Monday - Saturday (
 21 and Older)\n\nHAPPY HOUR:\nCLICK HERE FOR HAPPY HOUR DEALS\nCLICK H
 ERE REACH OUR VENUE'S PAGE TO FIND ADDRESSES AND PHONE NUMBERS OF PLAC
 ES LISTED\nCLICK HERE FOR OUR BAND/DJ PAGE TO FIND DESCRIPTION OF THE 
 BANDS AND LINKS TO THEIR WEB PAGES\n\nFor more information visit https
 ://vbnightlife.com/events/click-here-for-monday-2-13-12-virginia-beach
 -entertainment-listin
DTSTART:20120213T050000Z
DTEND:20120214T045900Z
CATEGORIES:"virgina beach entertainment", "virginia beach nightlife", 
 "virginia beach bands"
LOCATION:Virginia Beach
WEBSITE:
URL:
CONTACT:
ORGANIZER;CN="VBnightlife.com":https://vbnightlife.com/profile/admin
ATTACH;FMTTYPE="image/jpeg":http://storage.ning.com/topology/rest/1.0/
 file/get/1664160291?profile=original
ATTENDEE;ROLE=REQ-PARTICIPANT;PARTSTAT=ACCEPTED;RSVP=TRUE;CN="VBnightl
 ife.com":https://vbnightlife.com/profile/admin
END:VEVENT
END:VCALENDAR
