BEGIN:VCALENDAR
PRODID:NingEventWidget-v1
VERSION:2.0
METHOD:PUBLISH
BEGIN:VEVENT
UID:2508951:Event:210940
DTSTAMP:20260419T190551Z
SUMMARY:Click here for MONDAY 2/11/13 VIRGINIA BEACH ENTERTAINMENT LIS
 TINGS
DESCRIPTION:LIVE ENTERTAINMENT/ DJ’S/ KARAOKE:\nCrocs 19th St- Herbi
 e D & The Dangermen\nIl Giardino's -  Reginald Blackwell\nMurphys- Je
 sse Chong 10pm\nShakas- Road to the Sphinx Sumerian Records Battle\n 
 \nSPECIAL EVENTS/CONCERTS/ FESTIVALS:\n \nCLICK HERE FOR HAPPY HOUR D
 EALS FEATURING SEVERAL LOCAL RESTAURANTS DAILY SPECIALS\n \nCLICK HER
 E REACH OUR VENUE'S PAGE TO FIND ADDRESSES AND PHONE NUMBERS OF PLACE
 S LISTED\n \nCLICK HERE FOR OUR BAND/DJ PAGE TO FIND DESCRIPTION OF 
 THE BANDS AND LINKS TO THEIR WEB PAGES\n\nFor more information visit h
 ttps://vbnightlife.com/events/click-here-for-monday-2-11-13-virginia-b
 each-entertainment-listin
DTSTART:20130211T050000Z
DTEND:20130212T045900Z
CATEGORIES:"virginia beach", "virginia beach nightlife", "virginia bea
 ch bands"
LOCATION:Virginia Beach, VA
WEBSITE:
URL:
CONTACT:
ORGANIZER;CN="VBnightlife.com":https://vbnightlife.com/profile/admin
ATTACH;FMTTYPE="image/jpeg":http://storage.ning.com/topology/rest/1.0/
 file/get/1664184741?profile=original
ATTENDEE;ROLE=REQ-PARTICIPANT;PARTSTAT=ACCEPTED;RSVP=TRUE;CN="VBnightl
 ife.com":https://vbnightlife.com/profile/admin
END:VEVENT
END:VCALENDAR
